BEGIN:VCALENDAR
VERSION:2.0
PRODID:-//Washington Elementary School - ECPv6.13.0//NONSGML v1.0//EN
CALSCALE:GREGORIAN
METHOD:PUBLISH
X-WR-CALNAME:Washington Elementary School
X-ORIGINAL-URL:https://wes.pendleton.k12.or.us
X-WR-CALDESC:Events for Washington Elementary School
REFRESH-INTERVAL;VALUE=DURATION:PT1H
X-Robots-Tag:noindex
X-PUBLISHED-TTL:PT1H
BEGIN:VTIMEZONE
TZID:America/Los_Angeles
BEGIN:DAYLIGHT
TZOFFSETFROM:-0800
TZOFFSETTO:-0700
TZNAME:PDT
DTSTART:20250309T100000
END:DAYLIGHT
BEGIN:STANDARD
TZOFFSETFROM:-0700
TZOFFSETTO:-0800
TZNAME:PST
DTSTART:20251102T090000
END:STANDARD
END:VTIMEZONE
BEGIN:VEVENT
DTSTART;TZID=America/Los_Angeles:20250805T080000
DTEND;TZID=America/Los_Angeles:20250805T090000
DTSTAMP:20260422T040819
CREATED:20250802T031642Z
LAST-MODIFIED:20250805T032854Z
UID:10001030-1754380800-1754384400@wes.pendleton.k12.or.us
SUMMARY:Work Session
DESCRIPTION:The Pendleton School District Board of Directors Work Session.
URL:https://wes.pendleton.k12.or.us/event/work-session/
CATEGORIES:District Wide
END:VEVENT
BEGIN:VEVENT
DTSTART;TZID=America/Los_Angeles:20250805T080000
DTEND;TZID=America/Los_Angeles:20250805T090000
DTSTAMP:20260422T040819
CREATED:20251016T061325Z
LAST-MODIFIED:20251017T061348Z
UID:10001122-1754380800-1754384400@wes.pendleton.k12.or.us
SUMMARY:Work Session
DESCRIPTION:The Pendleton School District Board of Directors Work Session.
URL:https://wes.pendleton.k12.or.us/event/work-session-12/
CATEGORIES:District Wide
END:VEVENT
BEGIN:VEVENT
DTSTART;TZID=America/Los_Angeles:20250811T180000
DTEND;TZID=America/Los_Angeles:20250811T193000
DTSTAMP:20260422T040819
CREATED:20250802T031642Z
LAST-MODIFIED:20250811T034412Z
UID:10001031-1754935200-1754940600@wes.pendleton.k12.or.us
SUMMARY:Board Meeting
DESCRIPTION:The Pendleton School District Board of Directors meet for a regular board meeting.
URL:https://wes.pendleton.k12.or.us/event/board-meeting-37/
CATEGORIES:District Wide
END:VEVENT
BEGIN:VEVENT
DTSTART;TZID=America/Los_Angeles:20250811T180000
DTEND;TZID=America/Los_Angeles:20250811T193000
DTSTAMP:20260422T040819
CREATED:20251016T061325Z
LAST-MODIFIED:20251017T061348Z
UID:10001123-1754935200-1754940600@wes.pendleton.k12.or.us
SUMMARY:Board Meeting
DESCRIPTION:The Pendleton School District Board of Directors meet for a regular board meeting.
URL:https://wes.pendleton.k12.or.us/event/board-meeting-48/
CATEGORIES:District Wide
END:VEVENT
BEGIN:VEVENT
DTSTART;VALUE=DATE:20250820
DTEND;VALUE=DATE:20250821
DTSTAMP:20260422T040819
CREATED:20250606T164328Z
LAST-MODIFIED:20250820T035833Z
UID:10001027-1755648000-1755734399@wes.pendleton.k12.or.us
SUMMARY:In-Service
DESCRIPTION:Certified Staff In-service
URL:https://wes.pendleton.k12.or.us/event/in-service-5/
CATEGORIES:District Wide
END:VEVENT
BEGIN:VEVENT
DTSTART;VALUE=DATE:20250821
DTEND;VALUE=DATE:20250822
DTSTAMP:20260422T040819
CREATED:20250606T164329Z
LAST-MODIFIED:20250821T035915Z
UID:10001028-1755734400-1755820799@wes.pendleton.k12.or.us
SUMMARY:In-Service
DESCRIPTION:Certified Staff In-service
URL:https://wes.pendleton.k12.or.us/event/in-service-6/
CATEGORIES:District Wide
END:VEVENT
BEGIN:VEVENT
DTSTART;VALUE=DATE:20250822
DTEND;VALUE=DATE:20250823
DTSTAMP:20260422T040819
CREATED:20250802T031642Z
LAST-MODIFIED:20250822T035825Z
UID:10001032-1755820800-1755907199@wes.pendleton.k12.or.us
SUMMARY:In-Service
DESCRIPTION:All Staff In-service
URL:https://wes.pendleton.k12.or.us/event/in-service-7/
CATEGORIES:District Wide
END:VEVENT
BEGIN:VEVENT
DTSTART;VALUE=DATE:20250825
DTEND;VALUE=DATE:20250826
DTSTAMP:20260422T040819
CREATED:20250802T031642Z
LAST-MODIFIED:20250825T035923Z
UID:10001033-1756080000-1756166399@wes.pendleton.k12.or.us
SUMMARY:In-Service
DESCRIPTION:All Staff In-Service
URL:https://wes.pendleton.k12.or.us/event/in-service-8/
CATEGORIES:District Wide
END:VEVENT
BEGIN:VEVENT
DTSTART;VALUE=DATE:20250826
DTEND;VALUE=DATE:20250827
DTSTAMP:20260422T040819
CREATED:20250802T031642Z
LAST-MODIFIED:20250826T044400Z
UID:10001034-1756166400-1756252799@wes.pendleton.k12.or.us
SUMMARY:First Day of School
DESCRIPTION:Grades 2-12
URL:https://wes.pendleton.k12.or.us/event/first-day-of-school-3/
CATEGORIES:District Wide
END:VEVENT
BEGIN:VEVENT
DTSTART;VALUE=DATE:20250826
DTEND;VALUE=DATE:20250829
DTSTAMP:20260422T040819
CREATED:20250802T031642Z
LAST-MODIFIED:20250826T044400Z
UID:10001035-1756166400-1756425599@wes.pendleton.k12.or.us
SUMMARY:Soft Start – K/Grade 1
DESCRIPTION:Kindergarten and Grade 1 soft start Aug 26-28\, 2025. Contact your student’s school for more information.
URL:https://wes.pendleton.k12.or.us/event/soft-start-k-grade-1/
CATEGORIES:District Wide
END:VEVENT
END:VCALENDAR