BEGIN:VCALENDAR
VERSION:2.0
PRODID:-//Washington Elementary School - ECPv6.13.0//NONSGML v1.0//EN
CALSCALE:GREGORIAN
METHOD:PUBLISH
X-WR-CALNAME:Washington Elementary School
X-ORIGINAL-URL:https://wes.pendleton.k12.or.us
X-WR-CALDESC:Events for Washington Elementary School
REFRESH-INTERVAL;VALUE=DURATION:PT1H
X-Robots-Tag:noindex
X-PUBLISHED-TTL:PT1H
BEGIN:VTIMEZONE
TZID:America/Los_Angeles
BEGIN:DAYLIGHT
TZOFFSETFROM:-0800
TZOFFSETTO:-0700
TZNAME:PDT
DTSTART:20260308T100000
END:DAYLIGHT
BEGIN:STANDARD
TZOFFSETFROM:-0700
TZOFFSETTO:-0800
TZNAME:PST
DTSTART:20261101T090000
END:STANDARD
END:VTIMEZONE
BEGIN:VEVENT
DTSTART;VALUE=DATE:20260420
DTEND;VALUE=DATE:20260421
DTSTAMP:20260421T130059
CREATED:20251119T080025Z
LAST-MODIFIED:20260420T235948Z
UID:10001150-1776643200-1776729599@wes.pendleton.k12.or.us
SUMMARY:1 Hour Late Start
DESCRIPTION:
URL:https://wes.pendleton.k12.or.us/event/1-hour-late-start-79/
CATEGORIES:District Wide
END:VEVENT
BEGIN:VEVENT
DTSTART;VALUE=DATE:20260417
DTEND;VALUE=DATE:20260418
DTSTAMP:20260421T130059
CREATED:20250802T031647Z
LAST-MODIFIED:20260417T235822Z
UID:10001094-1776384000-1776470399@wes.pendleton.k12.or.us
SUMMARY:No School – Possible Snow Make Up Day
DESCRIPTION:No school today\, unless needed to make up a snow day.
URL:https://wes.pendleton.k12.or.us/event/no-school-possible-snow-make-up-day-7/
CATEGORIES:District Wide
END:VEVENT
BEGIN:VEVENT
DTSTART;TZID=America/Los_Angeles:20260413T180000
DTEND;TZID=America/Los_Angeles:20260413T193000
DTSTAMP:20260421T130059
CREATED:20250802T031647Z
LAST-MODIFIED:20260413T235834Z
UID:10001093-1776103200-1776108600@wes.pendleton.k12.or.us
SUMMARY:Board Meeting
DESCRIPTION:The Pendleton School District Board of Directors meet for a regular board meeting.
URL:https://wes.pendleton.k12.or.us/event/board-meeting-45/
CATEGORIES:District Wide
END:VEVENT
BEGIN:VEVENT
DTSTART;VALUE=DATE:20260413
DTEND;VALUE=DATE:20260414
DTSTAMP:20260421T130059
CREATED:20251119T080025Z
LAST-MODIFIED:20260413T235834Z
UID:10001149-1776038400-1776124799@wes.pendleton.k12.or.us
SUMMARY:1 Hour Late Start
DESCRIPTION:
URL:https://wes.pendleton.k12.or.us/event/1-hour-late-start-78/
CATEGORIES:District Wide
END:VEVENT
BEGIN:VEVENT
DTSTART;TZID=America/Los_Angeles:20260407T080000
DTEND;TZID=America/Los_Angeles:20260407T090000
DTSTAMP:20260421T130059
CREATED:20250802T031647Z
LAST-MODIFIED:20260407T235916Z
UID:10001091-1775548800-1775552400@wes.pendleton.k12.or.us
SUMMARY:Work Session
DESCRIPTION:The Pendleton School District Board of Directors Work Session.
URL:https://wes.pendleton.k12.or.us/event/work-session-9/
CATEGORIES:District Wide
END:VEVENT
BEGIN:VEVENT
DTSTART;VALUE=DATE:20260406
DTEND;VALUE=DATE:20260407
DTSTAMP:20260421T130059
CREATED:20251119T080025Z
LAST-MODIFIED:20260406T235922Z
UID:10001148-1775433600-1775519999@wes.pendleton.k12.or.us
SUMMARY:1 Hour Late Start
DESCRIPTION:
URL:https://wes.pendleton.k12.or.us/event/1-hour-late-start-77/
CATEGORIES:District Wide
END:VEVENT
BEGIN:VEVENT
DTSTART;VALUE=DATE:20260330
DTEND;VALUE=DATE:20260331
DTSTAMP:20260421T130059
CREATED:20251119T080025Z
LAST-MODIFIED:20260330T061324Z
UID:10001147-1774828800-1774915199@wes.pendleton.k12.or.us
SUMMARY:1 Hour Late Start
DESCRIPTION:
URL:https://wes.pendleton.k12.or.us/event/1-hour-late-start-76/
CATEGORIES:District Wide
END:VEVENT
BEGIN:VEVENT
DTSTART;VALUE=DATE:20260323
DTEND;VALUE=DATE:20260328
DTSTAMP:20260421T130059
CREATED:20250802T031647Z
LAST-MODIFIED:20260323T021321Z
UID:10001088-1774224000-1774655999@wes.pendleton.k12.or.us
SUMMARY:No School – Spring Break
DESCRIPTION:Happy Spring!  No school the week of March 23-27\, 2026.
URL:https://wes.pendleton.k12.or.us/event/no-school-spring-break-3/
CATEGORIES:District Wide
END:VEVENT
BEGIN:VEVENT
DTSTART;VALUE=DATE:20260316
DTEND;VALUE=DATE:20260317
DTSTAMP:20260421T130059
CREATED:20251119T080025Z
LAST-MODIFIED:20260316T201327Z
UID:10001146-1773619200-1773705599@wes.pendleton.k12.or.us
SUMMARY:1 Hour Late Start
DESCRIPTION:
URL:https://wes.pendleton.k12.or.us/event/1-hour-late-start-75/
CATEGORIES:District Wide
END:VEVENT
BEGIN:VEVENT
DTSTART;TZID=America/Los_Angeles:20260309T180000
DTEND;TZID=America/Los_Angeles:20260309T193000
DTSTAMP:20260421T130059
CREATED:20250802T031647Z
LAST-MODIFIED:20260309T195831Z
UID:10001086-1773079200-1773084600@wes.pendleton.k12.or.us
SUMMARY:Board Meeting
DESCRIPTION:The Pendleton School District Board of Directors meet for a regular board meeting.
URL:https://wes.pendleton.k12.or.us/event/board-meeting-44/
CATEGORIES:District Wide
END:VEVENT
BEGIN:VEVENT
DTSTART;VALUE=DATE:20260309
DTEND;VALUE=DATE:20260310
DTSTAMP:20260421T130059
CREATED:20251119T080024Z
LAST-MODIFIED:20260309T195829Z
UID:10001145-1773014400-1773100799@wes.pendleton.k12.or.us
SUMMARY:1 Hour Late Start
DESCRIPTION:
URL:https://wes.pendleton.k12.or.us/event/1-hour-late-start-74/
CATEGORIES:District Wide
END:VEVENT
BEGIN:VEVENT
DTSTART;VALUE=DATE:20260306
DTEND;VALUE=DATE:20260307
DTSTAMP:20260421T130059
CREATED:20250802T031647Z
LAST-MODIFIED:20260306T195827Z
UID:10001084-1772755200-1772841599@wes.pendleton.k12.or.us
SUMMARY:No School – In-Service
DESCRIPTION:No school due to regional staff in-service.
URL:https://wes.pendleton.k12.or.us/event/no-school-in-service-6/
CATEGORIES:District Wide
END:VEVENT
BEGIN:VEVENT
DTSTART;TZID=America/Los_Angeles:20260303T080000
DTEND;TZID=America/Los_Angeles:20260303T090000
DTSTAMP:20260421T130059
CREATED:20250802T031647Z
LAST-MODIFIED:20260303T195900Z
UID:10001083-1772524800-1772528400@wes.pendleton.k12.or.us
SUMMARY:Work Session
DESCRIPTION:The Pendleton School District Board of Directors Work Session.
URL:https://wes.pendleton.k12.or.us/event/work-session-8/
CATEGORIES:District Wide
END:VEVENT
BEGIN:VEVENT
DTSTART;VALUE=DATE:20260302
DTEND;VALUE=DATE:20260303
DTSTAMP:20260421T130059
CREATED:20251119T080024Z
LAST-MODIFIED:20260302T195834Z
UID:10001144-1772409600-1772495999@wes.pendleton.k12.or.us
SUMMARY:1 Hour Late Start
DESCRIPTION:
URL:https://wes.pendleton.k12.or.us/event/1-hour-late-start-73/
CATEGORIES:District Wide
END:VEVENT
BEGIN:VEVENT
DTSTART;VALUE=DATE:20260223
DTEND;VALUE=DATE:20260224
DTSTAMP:20260421T130059
CREATED:20251119T080024Z
LAST-MODIFIED:20260223T194337Z
UID:10001143-1771804800-1771891199@wes.pendleton.k12.or.us
SUMMARY:1 Hour Late Start
DESCRIPTION:
URL:https://wes.pendleton.k12.or.us/event/1-hour-late-start-72/
CATEGORIES:District Wide
END:VEVENT
BEGIN:VEVENT
DTSTART;VALUE=DATE:20260216
DTEND;VALUE=DATE:20260217
DTSTAMP:20260421T130059
CREATED:20250802T031646Z
LAST-MODIFIED:20260216T185848Z
UID:10001080-1771200000-1771286399@wes.pendleton.k12.or.us
SUMMARY:No School
DESCRIPTION:
URL:https://wes.pendleton.k12.or.us/event/no-school-8/
CATEGORIES:District Wide
END:VEVENT
BEGIN:VEVENT
DTSTART;TZID=America/Los_Angeles:20260214T070000
DTEND;TZID=America/Los_Angeles:20260214T170000
DTSTAMP:20260421T130059
CREATED:20250905T041328Z
LAST-MODIFIED:20260214T185825Z
UID:10001119-1771052400-1771088400@wes.pendleton.k12.or.us
SUMMARY:FTC Robotics
DESCRIPTION:Let’er Bot Pendleton Robotics League Tournament held at PHS gym from 7 am – 5 pm.
URL:https://wes.pendleton.k12.or.us/event/ftc-robotics-15/
CATEGORIES:District Wide
END:VEVENT
BEGIN:VEVENT
DTSTART;TZID=America/Los_Angeles:20260209T180000
DTEND;TZID=America/Los_Angeles:20260209T193000
DTSTAMP:20260421T130059
CREATED:20250802T031646Z
LAST-MODIFIED:20260209T181433Z
UID:10001079-1770660000-1770665400@wes.pendleton.k12.or.us
SUMMARY:Board Meeting
DESCRIPTION:The Pendleton School District Board of Directors meet for a regular board meeting.
URL:https://wes.pendleton.k12.or.us/event/board-meeting-43/
CATEGORIES:District Wide
END:VEVENT
BEGIN:VEVENT
DTSTART;VALUE=DATE:20260209
DTEND;VALUE=DATE:20260210
DTSTAMP:20260421T130059
CREATED:20251119T080024Z
LAST-MODIFIED:20260209T181429Z
UID:10001142-1770595200-1770681599@wes.pendleton.k12.or.us
SUMMARY:1 Hour Late Start
DESCRIPTION:
URL:https://wes.pendleton.k12.or.us/event/1-hour-late-start-71/
CATEGORIES:District Wide
END:VEVENT
BEGIN:VEVENT
DTSTART;TZID=America/Los_Angeles:20260203T080000
DTEND;TZID=America/Los_Angeles:20260203T090000
DTSTAMP:20260421T130059
CREATED:20250802T031646Z
LAST-MODIFIED:20260203T181335Z
UID:10001077-1770105600-1770109200@wes.pendleton.k12.or.us
SUMMARY:Work Session
DESCRIPTION:The Pendleton School District Board of Directors Work Session.
URL:https://wes.pendleton.k12.or.us/event/work-session-7/
CATEGORIES:District Wide
END:VEVENT
BEGIN:VEVENT
DTSTART;VALUE=DATE:20260202
DTEND;VALUE=DATE:20260203
DTSTAMP:20260421T130059
CREATED:20251119T080024Z
LAST-MODIFIED:20260202T181328Z
UID:10001141-1769990400-1770076799@wes.pendleton.k12.or.us
SUMMARY:1 Hour Late Start
DESCRIPTION:
URL:https://wes.pendleton.k12.or.us/event/1-hour-late-start-70/
CATEGORIES:District Wide
END:VEVENT
BEGIN:VEVENT
DTSTART;TZID=America/Los_Angeles:20260128T160000
DTEND;TZID=America/Los_Angeles:20260128T200000
DTSTAMP:20260421T130059
CREATED:20250905T041328Z
LAST-MODIFIED:20260128T175828Z
UID:10001118-1769616000-1769630400@wes.pendleton.k12.or.us
SUMMARY:FTC Robotics
DESCRIPTION:Let’er Bot Pendleton Robotics League Meets held in PHS Gold Gym from 4-8 pm.\nLeague Meet 0 – 11/20/2025\nLeague Meet 1 – 12/17/2025\nLeague Meet 2 – 1/14/2026\nLeague Meet 3 – 1/28/2026
URL:https://wes.pendleton.k12.or.us/event/ftc-robotics-14/
CATEGORIES:District Wide
END:VEVENT
BEGIN:VEVENT
DTSTART;VALUE=DATE:20260126
DTEND;VALUE=DATE:20260127
DTSTAMP:20260421T130059
CREATED:20250802T031646Z
LAST-MODIFIED:20260126T175832Z
UID:10001075-1769385600-1769471999@wes.pendleton.k12.or.us
SUMMARY:No School – In-Service
DESCRIPTION:There is no school due to staff in-service.
URL:https://wes.pendleton.k12.or.us/event/no-school-in-service-5/
CATEGORIES:District Wide
END:VEVENT
BEGIN:VEVENT
DTSTART;VALUE=DATE:20260123
DTEND;VALUE=DATE:20260124
DTSTAMP:20260421T130059
CREATED:20250802T031646Z
LAST-MODIFIED:20260123T175909Z
UID:10001074-1769126400-1769212799@wes.pendleton.k12.or.us
SUMMARY:End of Semester 1
DESCRIPTION:
URL:https://wes.pendleton.k12.or.us/event/end-of-semester-1/
CATEGORIES:District Wide
END:VEVENT
BEGIN:VEVENT
DTSTART;VALUE=DATE:20260119
DTEND;VALUE=DATE:20260120
DTSTAMP:20260421T130059
CREATED:20250802T031646Z
LAST-MODIFIED:20260119T175851Z
UID:10001073-1768780800-1768867199@wes.pendleton.k12.or.us
SUMMARY:No School – Holiday
DESCRIPTION:The district is closed in observance of Martin Luther King Jr. Day.
URL:https://wes.pendleton.k12.or.us/event/no-school-holiday-6/
CATEGORIES:District Wide
END:VEVENT
BEGIN:VEVENT
DTSTART;TZID=America/Los_Angeles:20260114T160000
DTEND;TZID=America/Los_Angeles:20260114T200000
DTSTAMP:20260421T130059
CREATED:20250905T041328Z
LAST-MODIFIED:20260114T175832Z
UID:10001117-1768406400-1768420800@wes.pendleton.k12.or.us
SUMMARY:FTC Robotics
DESCRIPTION:Let’er Bot Pendleton Robotics League Meets held in PHS Gold Gym from 4-8 pm.\nLeague Meet 0 – 11/20/2025\nLeague Meet 1 – 12/17/2025\nLeague Meet 2 – 1/14/2026\nLeague Meet 3 – 1/28/2026
URL:https://wes.pendleton.k12.or.us/event/ftc-robotics-13/
CATEGORIES:District Wide
END:VEVENT
BEGIN:VEVENT
DTSTART;TZID=America/Los_Angeles:20260112T180000
DTEND;TZID=America/Los_Angeles:20260112T193000
DTSTAMP:20260421T130059
CREATED:20250802T031645Z
LAST-MODIFIED:20260112T175839Z
UID:10001072-1768240800-1768246200@wes.pendleton.k12.or.us
SUMMARY:Board Meeting
DESCRIPTION:The Pendleton School District Board of Directors meet for a regular board meeting.
URL:https://wes.pendleton.k12.or.us/event/board-meeting-42/
CATEGORIES:District Wide
END:VEVENT
BEGIN:VEVENT
DTSTART;TZID=America/Los_Angeles:20260112T080000
DTEND;TZID=America/Los_Angeles:20260112T100000
DTSTAMP:20260421T130059
CREATED:20251126T081352Z
LAST-MODIFIED:20260112T175839Z
UID:10001157-1768204800-1768212000@wes.pendleton.k12.or.us
SUMMARY:Immunization Clinic
DESCRIPTION:The School Based Health Center is holding an Immunization Clinic at the PELC for all PSD students.
URL:https://wes.pendleton.k12.or.us/event/immunization-clinic-5/
CATEGORIES:District Wide
END:VEVENT
BEGIN:VEVENT
DTSTART;VALUE=DATE:20260112
DTEND;VALUE=DATE:20260113
DTSTAMP:20260421T130059
CREATED:20251119T080023Z
LAST-MODIFIED:20260112T175839Z
UID:10001140-1768176000-1768262399@wes.pendleton.k12.or.us
SUMMARY:1 Hour Late Start
DESCRIPTION:
URL:https://wes.pendleton.k12.or.us/event/1-hour-late-start-69/
CATEGORIES:District Wide
END:VEVENT
BEGIN:VEVENT
DTSTART;TZID=America/Los_Angeles:20260106T080000
DTEND;TZID=America/Los_Angeles:20260106T090000
DTSTAMP:20260421T130059
CREATED:20250802T031645Z
LAST-MODIFIED:20260106T174348Z
UID:10001070-1767686400-1767690000@wes.pendleton.k12.or.us
SUMMARY:Work Session
DESCRIPTION:The Pendleton School District Board of Directors Work Session.
URL:https://wes.pendleton.k12.or.us/event/work-session-6/
CATEGORIES:District Wide
END:VEVENT
END:VCALENDAR