BEGIN:VCALENDAR
VERSION:2.0
PRODID:-//Washington Elementary School - ECPv6.13.0//NONSGML v1.0//EN
CALSCALE:GREGORIAN
METHOD:PUBLISH
X-WR-CALNAME:Washington Elementary School
X-ORIGINAL-URL:https://wes.pendleton.k12.or.us
X-WR-CALDESC:Events for Washington Elementary School
REFRESH-INTERVAL;VALUE=DURATION:PT1H
X-Robots-Tag:noindex
X-PUBLISHED-TTL:PT1H
BEGIN:VTIMEZONE
TZID:America/Los_Angeles
BEGIN:DAYLIGHT
TZOFFSETFROM:-0800
TZOFFSETTO:-0700
TZNAME:PDT
DTSTART:20260308T100000
END:DAYLIGHT
BEGIN:STANDARD
TZOFFSETFROM:-0700
TZOFFSETTO:-0800
TZNAME:PST
DTSTART:20261101T090000
END:STANDARD
END:VTIMEZONE
BEGIN:VEVENT
DTSTART;VALUE=DATE:20260427
DTEND;VALUE=DATE:20260428
DTSTAMP:20260421T113501
CREATED:20251119T080025Z
LAST-MODIFIED:20260421T182824Z
UID:10001151-1777248000-1777334399@wes.pendleton.k12.or.us
SUMMARY:1 Hour Late Start
DESCRIPTION:
URL:https://wes.pendleton.k12.or.us/event/1-hour-late-start-80/
CATEGORIES:District Wide
END:VEVENT
BEGIN:VEVENT
DTSTART;VALUE=DATE:20260504
DTEND;VALUE=DATE:20260505
DTSTAMP:20260421T113501
CREATED:20251119T080025Z
LAST-MODIFIED:20260421T182824Z
UID:10001152-1777852800-1777939199@wes.pendleton.k12.or.us
SUMMARY:1 Hour Late Start
DESCRIPTION:
URL:https://wes.pendleton.k12.or.us/event/1-hour-late-start-81/
CATEGORIES:District Wide
END:VEVENT
BEGIN:VEVENT
DTSTART;TZID=America/Los_Angeles:20260505T080000
DTEND;TZID=America/Los_Angeles:20260505T090000
DTSTAMP:20260421T113501
CREATED:20250802T031648Z
LAST-MODIFIED:20260421T182824Z
UID:10001098-1777968000-1777971600@wes.pendleton.k12.or.us
SUMMARY:Work Session
DESCRIPTION:The Pendleton School District Board of Directors Work Session.
URL:https://wes.pendleton.k12.or.us/event/work-session-10/
CATEGORIES:District Wide
END:VEVENT
BEGIN:VEVENT
DTSTART;TZID=America/Los_Angeles:20260505T173000
DTEND;TZID=America/Los_Angeles:20260505T193000
DTSTAMP:20260421T113501
CREATED:20260409T222824Z
LAST-MODIFIED:20260421T182824Z
UID:10001176-1778002200-1778009400@wes.pendleton.k12.or.us
SUMMARY:Art Show – Opening Night
DESCRIPTION:The Annual PSD Art Show 2026 at the Pendleton Convention Center.  Opening Night only\, cookies provided and a free book from Altrusa for grades K-3.
URL:https://wes.pendleton.k12.or.us/event/art-show-opening-night/
CATEGORIES:District Wide
END:VEVENT
BEGIN:VEVENT
DTSTART;TZID=America/Los_Angeles:20260506T080000
DTEND;TZID=America/Los_Angeles:20260506T193000
DTSTAMP:20260421T113501
CREATED:20260409T222824Z
LAST-MODIFIED:20260421T182824Z
UID:10001177-1778054400-1778095800@wes.pendleton.k12.or.us
SUMMARY:Art Show
DESCRIPTION:The Annual PSD Art Show 2026 at the Pendleton Convention Center.
URL:https://wes.pendleton.k12.or.us/event/art-show-3/
CATEGORIES:District Wide
END:VEVENT
BEGIN:VEVENT
DTSTART;TZID=America/Los_Angeles:20260507T080000
DTEND;TZID=America/Los_Angeles:20260507T150000
DTSTAMP:20260421T113501
CREATED:20260409T222824Z
LAST-MODIFIED:20260421T182824Z
UID:10001178-1778140800-1778166000@wes.pendleton.k12.or.us
SUMMARY:Art Show
DESCRIPTION:The Annual PSD Art Show 2026 at the Pendleton Convention Center.
URL:https://wes.pendleton.k12.or.us/event/art-show-4/
CATEGORIES:District Wide
END:VEVENT
BEGIN:VEVENT
DTSTART;VALUE=DATE:20260511
DTEND;VALUE=DATE:20260512
DTSTAMP:20260421T113501
CREATED:20251119T080025Z
LAST-MODIFIED:20260421T182824Z
UID:10001153-1778457600-1778543999@wes.pendleton.k12.or.us
SUMMARY:1 Hour Late Start
DESCRIPTION:
URL:https://wes.pendleton.k12.or.us/event/1-hour-late-start-82/
CATEGORIES:District Wide
END:VEVENT
BEGIN:VEVENT
DTSTART;TZID=America/Los_Angeles:20260511T190000
DTEND;TZID=America/Los_Angeles:20260511T193000
DTSTAMP:20260421T113501
CREATED:20260414T162827Z
LAST-MODIFIED:20260421T182824Z
UID:10001179-1778526000-1778527800@wes.pendleton.k12.or.us
SUMMARY:Board Meeting
DESCRIPTION:The Pendleton School District Board of Directors meet for a regular board meeting. Update time change at the April 13\, 2026\, board meeting to 7:00 pm.
URL:https://wes.pendleton.k12.or.us/event/board-meeting-50/
CATEGORIES:District Wide
END:VEVENT
BEGIN:VEVENT
DTSTART;VALUE=DATE:20260518
DTEND;VALUE=DATE:20260519
DTSTAMP:20260421T113501
CREATED:20251119T080025Z
LAST-MODIFIED:20260421T182824Z
UID:10001154-1779062400-1779148799@wes.pendleton.k12.or.us
SUMMARY:1 Hour Late Start
DESCRIPTION:
URL:https://wes.pendleton.k12.or.us/event/1-hour-late-start-83/
CATEGORIES:District Wide
END:VEVENT
BEGIN:VEVENT
DTSTART;VALUE=DATE:20260525
DTEND;VALUE=DATE:20260526
DTSTAMP:20260421T113501
CREATED:20250802T031648Z
LAST-MODIFIED:20260421T182825Z
UID:10001102-1779667200-1779753599@wes.pendleton.k12.or.us
SUMMARY:No School – Holiday
DESCRIPTION:The district is closed in observance of Memorial Day.
URL:https://wes.pendleton.k12.or.us/event/no-school-holiday-7/
CATEGORIES:District Wide
END:VEVENT
BEGIN:VEVENT
DTSTART;VALUE=DATE:20260601
DTEND;VALUE=DATE:20260602
DTSTAMP:20260421T113501
CREATED:20251119T080026Z
LAST-MODIFIED:20260421T182825Z
UID:10001155-1780272000-1780358399@wes.pendleton.k12.or.us
SUMMARY:1 Hour Late Start
DESCRIPTION:
URL:https://wes.pendleton.k12.or.us/event/1-hour-late-start-84/
CATEGORIES:District Wide
END:VEVENT
BEGIN:VEVENT
DTSTART;TZID=America/Los_Angeles:20260602T080000
DTEND;TZID=America/Los_Angeles:20260602T090000
DTSTAMP:20260421T113501
CREATED:20250802T031649Z
LAST-MODIFIED:20260421T182825Z
UID:10001107-1780387200-1780390800@wes.pendleton.k12.or.us
SUMMARY:Work Session
DESCRIPTION:The Pendleton School District Board of Directors Work Session.
URL:https://wes.pendleton.k12.or.us/event/work-session-11/
CATEGORIES:District Wide
END:VEVENT
BEGIN:VEVENT
DTSTART;VALUE=DATE:20260605
DTEND;VALUE=DATE:20260606
DTSTAMP:20260421T113501
CREATED:20250802T031649Z
LAST-MODIFIED:20260421T182825Z
UID:10001108-1780617600-1780703999@wes.pendleton.k12.or.us
SUMMARY:Last Day of School – 2 Hr Early Release
DESCRIPTION:Last day of the 2025-26 school year!  All schools will have a 2 hour early release.
URL:https://wes.pendleton.k12.or.us/event/last-day-of-school-2-hr-early-release-2/
CATEGORIES:District Wide
END:VEVENT
BEGIN:VEVENT
DTSTART;VALUE=DATE:20260605
DTEND;VALUE=DATE:20260606
DTSTAMP:20260421T113501
CREATED:20250802T031649Z
LAST-MODIFIED:20260421T182825Z
UID:10001109-1780617600-1780703999@wes.pendleton.k12.or.us
SUMMARY:End of Semester 2
DESCRIPTION:
URL:https://wes.pendleton.k12.or.us/event/end-of-semester-2/
CATEGORIES:District Wide
END:VEVENT
BEGIN:VEVENT
DTSTART;VALUE=DATE:20260608
DTEND;VALUE=DATE:20260609
DTSTAMP:20260421T113501
CREATED:20250802T031649Z
LAST-MODIFIED:20260421T182825Z
UID:10001110-1780876800-1780963199@wes.pendleton.k12.or.us
SUMMARY:Staff In-Service
DESCRIPTION:No school. Last day for teachers.
URL:https://wes.pendleton.k12.or.us/event/staff-in-service-7/
CATEGORIES:District Wide
END:VEVENT
BEGIN:VEVENT
DTSTART;TZID=America/Los_Angeles:20260608T180000
DTEND;TZID=America/Los_Angeles:20260608T193000
DTSTAMP:20260421T113501
CREATED:20250802T031649Z
LAST-MODIFIED:20260421T182825Z
UID:10001111-1780941600-1780947000@wes.pendleton.k12.or.us
SUMMARY:Board Meeting
DESCRIPTION:The Pendleton School District Board of Directors meet for a regular board meeting.
URL:https://wes.pendleton.k12.or.us/event/board-meeting-47/
CATEGORIES:District Wide
END:VEVENT
END:VCALENDAR