BEGIN:VCALENDAR
VERSION:2.0
PRODID:-//Washington Elementary School - ECPv6.13.0//NONSGML v1.0//EN
CALSCALE:GREGORIAN
METHOD:PUBLISH
X-ORIGINAL-URL:https://wes.pendleton.k12.or.us
X-WR-CALDESC:Events for Washington Elementary School
REFRESH-INTERVAL;VALUE=DURATION:PT1H
X-Robots-Tag:noindex
X-PUBLISHED-TTL:PT1H
BEGIN:VTIMEZONE
TZID:America/Los_Angeles
BEGIN:DAYLIGHT
TZOFFSETFROM:-0800
TZOFFSETTO:-0700
TZNAME:PDT
DTSTART:20250309T100000
END:DAYLIGHT
BEGIN:STANDARD
TZOFFSETFROM:-0700
TZOFFSETTO:-0800
TZNAME:PST
DTSTART:20251102T090000
END:STANDARD
END:VTIMEZONE
BEGIN:VEVENT
DTSTART;VALUE=DATE:20250331
DTEND;VALUE=DATE:20250401
DTSTAMP:20260422T041351
CREATED:20240331T134406Z
LAST-MODIFIED:20250331T135839Z
UID:10000897-1743379200-1743465599@wes.pendleton.k12.or.us
SUMMARY:1 Hour Late Start
DESCRIPTION:
URL:https://wes.pendleton.k12.or.us/event/1-hour-late-start-22/
CATEGORIES:District Wide
END:VEVENT
BEGIN:VEVENT
DTSTART;VALUE=DATE:20250324
DTEND;VALUE=DATE:20250329
DTSTAMP:20260422T041351
CREATED:20240328T134404Z
LAST-MODIFIED:20250324T135938Z
UID:10000896-1742774400-1743206399@wes.pendleton.k12.or.us
SUMMARY:No School – Spring Break
DESCRIPTION:No school the week of spring break – March 24-28\, 2025.
URL:https://wes.pendleton.k12.or.us/event/no-school-spring-break-2/
CATEGORIES:District Wide
END:VEVENT
BEGIN:VEVENT
DTSTART;VALUE=DATE:20250317
DTEND;VALUE=DATE:20250318
DTSTAMP:20260422T041351
CREATED:20240317T133100Z
LAST-MODIFIED:20250317T114327Z
UID:10000892-1742169600-1742255999@wes.pendleton.k12.or.us
SUMMARY:1 Hour Late Start
DESCRIPTION:
URL:https://wes.pendleton.k12.or.us/event/1-hour-late-start-21/
CATEGORIES:District Wide
END:VEVENT
BEGIN:VEVENT
DTSTART;TZID=America/Los_Angeles:20250310T180000
DTEND;TZID=America/Los_Angeles:20250310T193000
DTSTAMP:20260422T041351
CREATED:20250301T112832Z
LAST-MODIFIED:20250310T114402Z
UID:10001012-1741629600-1741635000@wes.pendleton.k12.or.us
SUMMARY:CANCELLED – Regular Board Meeting
DESCRIPTION:The March 10\, 2025 regular board meeting was cancelled at the February 10\, 2025 board meeting due to the superintendent interviews on 3/10/2025.
URL:https://wes.pendleton.k12.or.us/event/cancelled-regular-board-meeting/
CATEGORIES:District Wide
END:VEVENT
BEGIN:VEVENT
DTSTART;TZID=America/Los_Angeles:20250310T180000
DTEND;TZID=America/Los_Angeles:20250310T193000
DTSTAMP:20260422T041351
CREATED:20240730T022956Z
LAST-MODIFIED:20250228T112832Z
UID:10000936-1741629600-1741635000@wes.pendleton.k12.or.us
SUMMARY:Regular Board Meeting
DESCRIPTION:
URL:https://wes.pendleton.k12.or.us/event/regular-board-meeting-8/
CATEGORIES:District Wide
END:VEVENT
BEGIN:VEVENT
DTSTART;VALUE=DATE:20250310
DTEND;VALUE=DATE:20250311
DTSTAMP:20260422T041351
CREATED:20240315T131413Z
LAST-MODIFIED:20250310T114402Z
UID:10000891-1741564800-1741651199@wes.pendleton.k12.or.us
SUMMARY:1 Hour Late Start
DESCRIPTION:
URL:https://wes.pendleton.k12.or.us/event/1-hour-late-start-20/
CATEGORIES:District Wide
END:VEVENT
BEGIN:VEVENT
DTSTART;VALUE=DATE:20250307
DTEND;VALUE=DATE:20250308
DTSTAMP:20260422T041351
CREATED:20240315T131413Z
LAST-MODIFIED:20250307T114335Z
UID:10000890-1741305600-1741391999@wes.pendleton.k12.or.us
SUMMARY:No School – In-Service
DESCRIPTION:No school due to regional in-service.
URL:https://wes.pendleton.k12.or.us/event/no-school-in-service-4/
CATEGORIES:District Wide
END:VEVENT
BEGIN:VEVENT
DTSTART;TZID=America/Los_Angeles:20250305T160000
DTEND;TZID=America/Los_Angeles:20250305T201500
DTSTAMP:20260422T041351
CREATED:20250218T105903Z
LAST-MODIFIED:20250305T112837Z
UID:10001011-1741190400-1741205700@wes.pendleton.k12.or.us
SUMMARY:Secondary Conferences
DESCRIPTION:Wednesday March 5th\n\n\nK-5 = No conferences\ngr. 6-8 = 4:00 pm – 7:00 pm\n\ngr. 9-12 = 4:00 pm – 8:15 pm
URL:https://wes.pendleton.k12.or.us/event/secondary-conferences-5/
CATEGORIES:District Wide
END:VEVENT
BEGIN:VEVENT
DTSTART;TZID=America/Los_Angeles:20250305T153000
DTEND;TZID=America/Los_Angeles:20250305T200000
DTSTAMP:20260422T041351
CREATED:20250218T105903Z
LAST-MODIFIED:20250305T112837Z
UID:10001010-1741188600-1741204800@wes.pendleton.k12.or.us
SUMMARY:Secondary Conferences
DESCRIPTION:Kindergarten – Grade 5\nEvening Parent/Teacher conferences.
URL:https://wes.pendleton.k12.or.us/event/secondary-conferences-4/
CATEGORIES:District Wide
END:VEVENT
BEGIN:VEVENT
DTSTART;TZID=America/Los_Angeles:20250305T153000
DTEND;TZID=America/Los_Angeles:20250305T200000
DTSTAMP:20260422T041351
CREATED:20240807T025838Z
LAST-MODIFIED:20250217T105853Z
UID:10000960-1741188600-1741204800@wes.pendleton.k12.or.us
SUMMARY:Secondary Conferences
DESCRIPTION:Kindergarten – Grade 5\nEvening Parent/Teacher conferences.
URL:https://wes.pendleton.k12.or.us/event/secondary-conferences-3/
CATEGORIES:District Wide
END:VEVENT
BEGIN:VEVENT
DTSTART;TZID=America/Los_Angeles:20250304T153000
DTEND;TZID=America/Los_Angeles:20250304T193000
DTSTAMP:20260422T041351
CREATED:20240315T131413Z
LAST-MODIFIED:20250304T113020Z
UID:10000955-1741102200-1741116600@wes.pendleton.k12.or.us
SUMMARY:Elementary Conferences
DESCRIPTION:Tuesday March 4th\nK-5 = 3:30 pm – 7:30 pm\n6-12 = No conferences
URL:https://wes.pendleton.k12.or.us/event/conferences-2/
CATEGORIES:District Wide
END:VEVENT
BEGIN:VEVENT
DTSTART;TZID=America/Los_Angeles:20250304T080000
DTEND;TZID=America/Los_Angeles:20250304T090000
DTSTAMP:20260422T041351
CREATED:20240730T022956Z
LAST-MODIFIED:20250304T113020Z
UID:10000935-1741075200-1741078800@wes.pendleton.k12.or.us
SUMMARY:Board Work Session
DESCRIPTION:Meets in the District Office boardroom
URL:https://wes.pendleton.k12.or.us/event/board-work-session-30/
CATEGORIES:District Wide
END:VEVENT
BEGIN:VEVENT
DTSTART;TZID=America/Los_Angeles:20250303T154500
DTEND;TZID=America/Los_Angeles:20250303T200000
DTSTAMP:20260422T041351
CREATED:20250218T105902Z
LAST-MODIFIED:20250303T112829Z
UID:10001009-1741016700-1741032000@wes.pendleton.k12.or.us
SUMMARY:Secondary Conferences
DESCRIPTION:Monday March 3rd\n\nK-5 = No conferences\ngr. 6-8 = 3:45 pm – 8:00 pm\n\ngr. 9-12 = 4:00 pm – 7:00 pm
URL:https://wes.pendleton.k12.or.us/event/secondary-conferences/
CATEGORIES:District Wide
END:VEVENT
BEGIN:VEVENT
DTSTART;TZID=America/Los_Angeles:20250303T153000
DTEND;TZID=America/Los_Angeles:20250303T200000
DTSTAMP:20260422T041351
CREATED:20240807T025838Z
LAST-MODIFIED:20250217T105852Z
UID:10000959-1741015800-1741032000@wes.pendleton.k12.or.us
SUMMARY:Secondary Conferences
DESCRIPTION:Kindergarten – Grade 5\nEvening Parent/Teacher conferences.
URL:https://wes.pendleton.k12.or.us/event/secondary-conferences-2/
CATEGORIES:District Wide
END:VEVENT
BEGIN:VEVENT
DTSTART;VALUE=DATE:20250303
DTEND;VALUE=DATE:20250304
DTSTAMP:20260422T041351
CREATED:20240315T131412Z
LAST-MODIFIED:20250303T112828Z
UID:10000887-1740960000-1741046399@wes.pendleton.k12.or.us
SUMMARY:1 Hour Late Start
DESCRIPTION:
URL:https://wes.pendleton.k12.or.us/event/1-hour-late-start-19/
CATEGORIES:District Wide
END:VEVENT
BEGIN:VEVENT
DTSTART;VALUE=DATE:20250224
DTEND;VALUE=DATE:20250225
DTSTAMP:20260422T041351
CREATED:20240315T131412Z
LAST-MODIFIED:20250224T111341Z
UID:10000886-1740355200-1740441599@wes.pendleton.k12.or.us
SUMMARY:1 Hour Late Start
DESCRIPTION:
URL:https://wes.pendleton.k12.or.us/event/1-hour-late-start-18/
CATEGORIES:District Wide
END:VEVENT
BEGIN:VEVENT
DTSTART;TZID=America/Los_Angeles:20250222T070000
DTEND;TZID=America/Los_Angeles:20250222T170000
DTSTAMP:20260422T041351
CREATED:20241025T065956Z
LAST-MODIFIED:20250222T105852Z
UID:10000992-1740207600-1740243600@wes.pendleton.k12.or.us
SUMMARY:FTC Robotics
DESCRIPTION:FTC Robotics Competitions in PHS Gold Gym from 4-8 pm.\nMeet 0 – Nov 19\nMeet 1 – Dec 19\nMeet 2 – Jan 22\nMeet 3 – Feb 6\nFinals – Feb 22 (7 am-5 pm)
URL:https://wes.pendleton.k12.or.us/event/ftc-robotics-10/
CATEGORIES:District Wide
END:VEVENT
BEGIN:VEVENT
DTSTART;VALUE=DATE:20250217
DTEND;VALUE=DATE:20250218
DTSTAMP:20260422T041351
CREATED:20240315T131412Z
LAST-MODIFIED:20250217T105852Z
UID:10000885-1739750400-1739836799@wes.pendleton.k12.or.us
SUMMARY:No School
DESCRIPTION:
URL:https://wes.pendleton.k12.or.us/event/no-school-6/
CATEGORIES:District Wide
END:VEVENT
BEGIN:VEVENT
DTSTART;TZID=America/Los_Angeles:20250210T180000
DTEND;TZID=America/Los_Angeles:20250210T193000
DTSTAMP:20260422T041351
CREATED:20240730T022956Z
LAST-MODIFIED:20250210T102842Z
UID:10000934-1739210400-1739215800@wes.pendleton.k12.or.us
SUMMARY:Regular Board Meeting
DESCRIPTION:
URL:https://wes.pendleton.k12.or.us/event/regular-board-meeting-7/
CATEGORIES:District Wide
END:VEVENT
BEGIN:VEVENT
DTSTART;VALUE=DATE:20250210
DTEND;VALUE=DATE:20250211
DTSTAMP:20260422T041351
CREATED:20240315T131412Z
LAST-MODIFIED:20250210T102842Z
UID:10000884-1739145600-1739231999@wes.pendleton.k12.or.us
SUMMARY:1 Hour Late Start
DESCRIPTION:
URL:https://wes.pendleton.k12.or.us/event/1-hour-late-start-17/
CATEGORIES:District Wide
END:VEVENT
BEGIN:VEVENT
DTSTART;TZID=America/Los_Angeles:20250206T160000
DTEND;TZID=America/Los_Angeles:20250206T200000
DTSTAMP:20260422T041351
CREATED:20241025T065955Z
LAST-MODIFIED:20250206T101649Z
UID:10000991-1738857600-1738872000@wes.pendleton.k12.or.us
SUMMARY:FTC Robotics
DESCRIPTION:FTC Robotics Competitions in PHS Gold Gym from 4-8 pm.\nMeet 0 – Nov 19\nMeet 1 – Dec 19\nMeet 2 – Jan 22\nMeet 3 – Feb 6\nFinals – Feb 22 (7 am-5 pm)
URL:https://wes.pendleton.k12.or.us/event/ftc-robotics-9/
CATEGORIES:District Wide
END:VEVENT
BEGIN:VEVENT
DTSTART;TZID=America/Los_Angeles:20250204T080000
DTEND;TZID=America/Los_Angeles:20250204T090000
DTSTAMP:20260422T041351
CREATED:20240730T022956Z
LAST-MODIFIED:20250204T101402Z
UID:10000933-1738656000-1738659600@wes.pendleton.k12.or.us
SUMMARY:Board Work Session
DESCRIPTION:Meets in the District Office boardroom
URL:https://wes.pendleton.k12.or.us/event/board-work-session-29/
CATEGORIES:District Wide
END:VEVENT
BEGIN:VEVENT
DTSTART;VALUE=DATE:20250203
DTEND;VALUE=DATE:20250204
DTSTAMP:20260422T041351
CREATED:20240315T131412Z
LAST-MODIFIED:20250203T101446Z
UID:10000883-1738540800-1738627199@wes.pendleton.k12.or.us
SUMMARY:1 Hour Late Start
DESCRIPTION:
URL:https://wes.pendleton.k12.or.us/event/1-hour-late-start-16/
CATEGORIES:District Wide
END:VEVENT
BEGIN:VEVENT
DTSTART;TZID=America/Los_Angeles:20250127T073000
DTEND;TZID=America/Los_Angeles:20250127T160000
DTSTAMP:20260422T041351
CREATED:20241003T055940Z
LAST-MODIFIED:20250127T101352Z
UID:10000986-1737963000-1737993600@wes.pendleton.k12.or.us
SUMMARY:Immunization Clinic
DESCRIPTION:The Pendleton School Based Health Center is offering immunization clinics and well child visits.  Available to all students of the Pendleton SD with no cost to families.  Location is at the PELC from 7:30-4:00.  Call for an appointment at 541-966-3857.  Oct 14\, Nov 18\, Dec 9\, Jan 27.
URL:https://wes.pendleton.k12.or.us/event/immunization-clinic-4/
CATEGORIES:District Wide
END:VEVENT
BEGIN:VEVENT
DTSTART;VALUE=DATE:20250127
DTEND;VALUE=DATE:20250128
DTSTAMP:20260422T041351
CREATED:20240315T131412Z
LAST-MODIFIED:20250127T101352Z
UID:10000882-1737936000-1738022399@wes.pendleton.k12.or.us
SUMMARY:No School – In-Service
DESCRIPTION:No School due to staff in-service.
URL:https://wes.pendleton.k12.or.us/event/no-school-in-service-3/
CATEGORIES:District Wide
END:VEVENT
BEGIN:VEVENT
DTSTART;VALUE=DATE:20250124
DTEND;VALUE=DATE:20250125
DTSTAMP:20260422T041351
CREATED:20240315T131412Z
LAST-MODIFIED:20250124T101508Z
UID:10000881-1737676800-1737763199@wes.pendleton.k12.or.us
SUMMARY:End of 1st Semester
DESCRIPTION:
URL:https://wes.pendleton.k12.or.us/event/end-of-1st-semester-3/
CATEGORIES:District Wide
END:VEVENT
BEGIN:VEVENT
DTSTART;TZID=America/Los_Angeles:20250122T160000
DTEND;TZID=America/Los_Angeles:20250122T200000
DTSTAMP:20260422T041351
CREATED:20241025T065955Z
LAST-MODIFIED:20250122T101336Z
UID:10000990-1737561600-1737576000@wes.pendleton.k12.or.us
SUMMARY:FTC Robotics
DESCRIPTION:FTC Robotics Competitions in PHS Gold Gym from 4-8 pm.\nMeet 0 – Nov 19\nMeet 1 – Dec 19\nMeet 2 – Jan 22\nMeet 3 – Feb 6\nFinals – Feb 22 (7 am-5 pm)
URL:https://wes.pendleton.k12.or.us/event/ftc-robotics-8/
CATEGORIES:District Wide
END:VEVENT
BEGIN:VEVENT
DTSTART;VALUE=DATE:20250120
DTEND;VALUE=DATE:20250121
DTSTAMP:20260422T041351
CREATED:20240315T131412Z
LAST-MODIFIED:20250120T095835Z
UID:10000880-1737331200-1737417599@wes.pendleton.k12.or.us
SUMMARY:No School – Holiday
DESCRIPTION:No school due to Martin Luther King\, Jr. day observed.
URL:https://wes.pendleton.k12.or.us/event/no-school-holiday-3/
CATEGORIES:District Wide
END:VEVENT
BEGIN:VEVENT
DTSTART;TZID=America/Los_Angeles:20250113T180000
DTEND;TZID=America/Los_Angeles:20250113T193000
DTSTAMP:20260422T041351
CREATED:20240730T022955Z
LAST-MODIFIED:20250113T095905Z
UID:10000932-1736791200-1736796600@wes.pendleton.k12.or.us
SUMMARY:Regular Board Meeting
DESCRIPTION:
URL:https://wes.pendleton.k12.or.us/event/regular-board-meeting-6/
CATEGORIES:District Wide
END:VEVENT
BEGIN:VEVENT
DTSTART;VALUE=DATE:20250113
DTEND;VALUE=DATE:20250114
DTSTAMP:20260422T041351
CREATED:20240315T131412Z
LAST-MODIFIED:20250113T095905Z
UID:10000879-1736726400-1736812799@wes.pendleton.k12.or.us
SUMMARY:1 Hour Late Start
DESCRIPTION:
URL:https://wes.pendleton.k12.or.us/event/1-hour-late-start-15/
CATEGORIES:District Wide
END:VEVENT
END:VCALENDAR