BEGIN:VCALENDAR
VERSION:2.0
PRODID:-//Washington Elementary School - ECPv6.13.0//NONSGML v1.0//EN
CALSCALE:GREGORIAN
METHOD:PUBLISH
X-ORIGINAL-URL:https://wes.pendleton.k12.or.us
X-WR-CALDESC:Events for Washington Elementary School
REFRESH-INTERVAL;VALUE=DURATION:PT1H
X-Robots-Tag:noindex
X-PUBLISHED-TTL:PT1H
BEGIN:VTIMEZONE
TZID:America/Los_Angeles
BEGIN:DAYLIGHT
TZOFFSETFROM:-0800
TZOFFSETTO:-0700
TZNAME:PDT
DTSTART:20220313T100000
END:DAYLIGHT
BEGIN:STANDARD
TZOFFSETFROM:-0700
TZOFFSETTO:-0800
TZNAME:PST
DTSTART:20221106T090000
END:STANDARD
BEGIN:DAYLIGHT
TZOFFSETFROM:-0800
TZOFFSETTO:-0700
TZNAME:PDT
DTSTART:20230312T100000
END:DAYLIGHT
BEGIN:STANDARD
TZOFFSETFROM:-0700
TZOFFSETTO:-0800
TZNAME:PST
DTSTART:20231105T090000
END:STANDARD
END:VTIMEZONE
BEGIN:VEVENT
DTSTART;TZID=America/Los_Angeles:20230307T153000
DTEND;TZID=America/Los_Angeles:20230307T193000
DTSTAMP:20260425T091016
CREATED:20220514T131743Z
LAST-MODIFIED:20230307T094613Z
UID:10000594-1678203000-1678217400@wes.pendleton.k12.or.us
SUMMARY:Evening Parent/Teacher Conferences
DESCRIPTION:
URL:https://wes.pendleton.k12.or.us/event/evening-parent-teacher-conferences-4/
CATEGORIES:District Wide
END:VEVENT
BEGIN:VEVENT
DTSTART;VALUE=DATE:20230306
DTEND;VALUE=DATE:20230307
DTSTAMP:20260425T091016
CREATED:20220514T131743Z
LAST-MODIFIED:20230306T094506Z
UID:10000591-1678060800-1678147199@wes.pendleton.k12.or.us
SUMMARY:Late Start
DESCRIPTION:
URL:https://wes.pendleton.k12.or.us/event/late-start-20/
CATEGORIES:District Wide
END:VEVENT
BEGIN:VEVENT
DTSTART;VALUE=DATE:20230227
DTEND;VALUE=DATE:20230228
DTSTAMP:20260425T091016
CREATED:20220514T131743Z
LAST-MODIFIED:20230227T090555Z
UID:10000589-1677456000-1677542399@wes.pendleton.k12.or.us
SUMMARY:Late Start
DESCRIPTION:
URL:https://wes.pendleton.k12.or.us/event/late-start-19/
CATEGORIES:District Wide
END:VEVENT
BEGIN:VEVENT
DTSTART;VALUE=DATE:20230224
DTEND;VALUE=DATE:20230225
DTSTAMP:20260425T091016
CREATED:20230224T153232Z
LAST-MODIFIED:20230224T153232Z
UID:10000650-1677196800-1677283199@wes.pendleton.k12.or.us
SUMMARY:School Cancelled
DESCRIPTION:School is cancelled due to road and weather conditions.
URL:https://wes.pendleton.k12.or.us/event/school-cancelled-2/
CATEGORIES:District Wide
END:VEVENT
BEGIN:VEVENT
DTSTART;VALUE=DATE:20230223
DTEND;VALUE=DATE:20230224
DTSTAMP:20260425T091016
CREATED:20230223T180654Z
LAST-MODIFIED:20230223T181304Z
UID:10000642-1677110400-1677196799@wes.pendleton.k12.or.us
SUMMARY:School Cancelled
DESCRIPTION:School is cancelled due to road and weather conditions.
URL:https://wes.pendleton.k12.or.us/event/school-cancelled/
CATEGORIES:District Wide
END:VEVENT
BEGIN:VEVENT
DTSTART;VALUE=DATE:20230220
DTEND;VALUE=DATE:20230221
DTSTAMP:20260425T091016
CREATED:20220514T131743Z
LAST-MODIFIED:20230220T074552Z
UID:10000587-1676851200-1676937599@wes.pendleton.k12.or.us
SUMMARY:No School
DESCRIPTION:
URL:https://wes.pendleton.k12.or.us/event/no-school-4/
CATEGORIES:District Wide
END:VEVENT
BEGIN:VEVENT
DTSTART;TZID=America/Los_Angeles:20230213T080000
DTEND;TZID=America/Los_Angeles:20230213T160000
DTSTAMP:20260425T091016
CREATED:20221107T175909Z
LAST-MODIFIED:20230213T070307Z
UID:10000536-1676275200-1676304000@wes.pendleton.k12.or.us
SUMMARY:Health Days
DESCRIPTION:Open to all Pendleton School District students.\nCall for appointment: 541-966-3857 or 541-966-3432
URL:https://wes.pendleton.k12.or.us/event/health-days-3/
CATEGORIES:District Wide
END:VEVENT
BEGIN:VEVENT
DTSTART;VALUE=DATE:20230213
DTEND;VALUE=DATE:20230214
DTSTAMP:20260425T091016
CREATED:20220514T131743Z
LAST-MODIFIED:20230213T070307Z
UID:10000584-1676246400-1676332799@wes.pendleton.k12.or.us
SUMMARY:Late Start
DESCRIPTION:
URL:https://wes.pendleton.k12.or.us/event/late-start-18/
CATEGORIES:District Wide
END:VEVENT
BEGIN:VEVENT
DTSTART;VALUE=DATE:20230206
DTEND;VALUE=DATE:20230207
DTSTAMP:20260425T091016
CREATED:20220514T131743Z
LAST-MODIFIED:20230206T060316Z
UID:10000582-1675641600-1675727999@wes.pendleton.k12.or.us
SUMMARY:Late Start
DESCRIPTION:
URL:https://wes.pendleton.k12.or.us/event/late-start-17/
CATEGORIES:District Wide
END:VEVENT
BEGIN:VEVENT
DTSTART;VALUE=DATE:20230130
DTEND;VALUE=DATE:20230131
DTSTAMP:20260425T091016
CREATED:20220514T131743Z
LAST-MODIFIED:20230130T045949Z
UID:10000579-1675036800-1675123199@wes.pendleton.k12.or.us
SUMMARY:Staff In-Service – No School
DESCRIPTION:
URL:https://wes.pendleton.k12.or.us/event/staff-in-service-no-school-4/
CATEGORIES:District Wide
END:VEVENT
BEGIN:VEVENT
DTSTART;VALUE=DATE:20230130
DTEND;VALUE=DATE:20230131
DTSTAMP:20260425T091016
CREATED:20220514T131743Z
LAST-MODIFIED:20230130T045949Z
UID:10000580-1675036800-1675123199@wes.pendleton.k12.or.us
SUMMARY:End of 1st Semester
DESCRIPTION:
URL:https://wes.pendleton.k12.or.us/event/end-of-1st-semester/
CATEGORIES:District Wide
END:VEVENT
BEGIN:VEVENT
DTSTART;VALUE=DATE:20230123
DTEND;VALUE=DATE:20230124
DTSTAMP:20260425T091016
CREATED:20220514T131743Z
LAST-MODIFIED:20230123T041941Z
UID:10000578-1674432000-1674518399@wes.pendleton.k12.or.us
SUMMARY:Late Start
DESCRIPTION:
URL:https://wes.pendleton.k12.or.us/event/late-start-16/
CATEGORIES:District Wide
END:VEVENT
BEGIN:VEVENT
DTSTART;VALUE=DATE:20230116
DTEND;VALUE=DATE:20230117
DTSTAMP:20260425T091016
CREATED:20220514T131743Z
LAST-MODIFIED:20230116T030633Z
UID:10000577-1673827200-1673913599@wes.pendleton.k12.or.us
SUMMARY:MLK Jr. Day – No School
DESCRIPTION:
URL:https://wes.pendleton.k12.or.us/event/mlk-jr-day-no-school/
CATEGORIES:District Wide
END:VEVENT
BEGIN:VEVENT
DTSTART;TZID=America/Los_Angeles:20230109T080000
DTEND;TZID=America/Los_Angeles:20230109T160000
DTSTAMP:20260425T091016
CREATED:20221107T175909Z
LAST-MODIFIED:20230109T021651Z
UID:10000534-1673251200-1673280000@wes.pendleton.k12.or.us
SUMMARY:Health Days
DESCRIPTION:Open to all Pendleton School District students.\nCall for appointment: 541-966-3857 or 541-966-3432
URL:https://wes.pendleton.k12.or.us/event/health-days-2/
CATEGORIES:District Wide
END:VEVENT
BEGIN:VEVENT
DTSTART;VALUE=DATE:20230109
DTEND;VALUE=DATE:20230110
DTSTAMP:20260425T091016
CREATED:20220514T131743Z
LAST-MODIFIED:20230109T021651Z
UID:10000576-1673222400-1673308799@wes.pendleton.k12.or.us
SUMMARY:Late Start
DESCRIPTION:
URL:https://wes.pendleton.k12.or.us/event/late-start-15/
CATEGORIES:District Wide
END:VEVENT
BEGIN:VEVENT
DTSTART;VALUE=DATE:20230103
DTEND;VALUE=DATE:20230104
DTSTAMP:20260425T091016
CREATED:20220514T131743Z
LAST-MODIFIED:20230102T234029Z
UID:10000575-1672704000-1672790399@wes.pendleton.k12.or.us
SUMMARY:School Resumes
DESCRIPTION:
URL:https://wes.pendleton.k12.or.us/event/school-resumes-2/
CATEGORIES:District Wide
END:VEVENT
BEGIN:VEVENT
DTSTART;VALUE=DATE:20221221
DTEND;VALUE=DATE:20230103
DTSTAMP:20260425T091016
CREATED:20220514T131742Z
LAST-MODIFIED:20221221T223053Z
UID:10000574-1671580800-1672703999@wes.pendleton.k12.or.us
SUMMARY:Winter Break – No School
DESCRIPTION:
URL:https://wes.pendleton.k12.or.us/event/winter-break-no-school-2/
CATEGORIES:District Wide
END:VEVENT
BEGIN:VEVENT
DTSTART;VALUE=DATE:20221219
DTEND;VALUE=DATE:20221220
DTSTAMP:20260425T091016
CREATED:20220514T131742Z
LAST-MODIFIED:20221219T221633Z
UID:10000573-1671408000-1671494399@wes.pendleton.k12.or.us
SUMMARY:Late Start
DESCRIPTION:
URL:https://wes.pendleton.k12.or.us/event/late-start-14/
CATEGORIES:District Wide
END:VEVENT
BEGIN:VEVENT
DTSTART;TZID=America/Los_Angeles:20221212T080000
DTEND;TZID=America/Los_Angeles:20221212T160000
DTSTAMP:20260425T091016
CREATED:20221107T175909Z
LAST-MODIFIED:20221212T212842Z
UID:10000532-1670832000-1670860800@wes.pendleton.k12.or.us
SUMMARY:Health Days
DESCRIPTION:Due to inclement weather\, December 5 health day is rescheduled to December 12. \n \n 
URL:https://wes.pendleton.k12.or.us/event/health-days/
CATEGORIES:District Wide
END:VEVENT
BEGIN:VEVENT
DTSTART;VALUE=DATE:20221212
DTEND;VALUE=DATE:20221213
DTSTAMP:20260425T091016
CREATED:20220514T131742Z
LAST-MODIFIED:20221212T212842Z
UID:10000572-1670803200-1670889599@wes.pendleton.k12.or.us
SUMMARY:Late Start
DESCRIPTION:
URL:https://wes.pendleton.k12.or.us/event/late-start-13/
CATEGORIES:District Wide
END:VEVENT
BEGIN:VEVENT
DTSTART;VALUE=DATE:20221205
DTEND;VALUE=DATE:20221206
DTSTAMP:20260425T091016
CREATED:20220514T131742Z
LAST-MODIFIED:20221205T210010Z
UID:10000571-1670198400-1670284799@wes.pendleton.k12.or.us
SUMMARY:Late Start
DESCRIPTION:
URL:https://wes.pendleton.k12.or.us/event/late-start-12/
CATEGORIES:District Wide
END:VEVENT
BEGIN:VEVENT
DTSTART;VALUE=DATE:20221128
DTEND;VALUE=DATE:20221129
DTSTAMP:20260425T091016
CREATED:20220514T131742Z
LAST-MODIFIED:20221128T194430Z
UID:10000569-1669593600-1669679999@wes.pendleton.k12.or.us
SUMMARY:Late Start
DESCRIPTION:
URL:https://wes.pendleton.k12.or.us/event/late-start-11/
CATEGORIES:District Wide
END:VEVENT
BEGIN:VEVENT
DTSTART;VALUE=DATE:20221124
DTEND;VALUE=DATE:20221126
DTSTAMP:20260425T091016
CREATED:20220514T131742Z
LAST-MODIFIED:20221124T190434Z
UID:10000570-1669248000-1669420799@wes.pendleton.k12.or.us
SUMMARY:Thanksgiving Break – No School
DESCRIPTION:
URL:https://wes.pendleton.k12.or.us/event/thanksgiving-break-no-school-2/
CATEGORIES:District Wide
END:VEVENT
BEGIN:VEVENT
DTSTART;VALUE=DATE:20221123
DTEND;VALUE=DATE:20221124
DTSTAMP:20260425T091016
CREATED:20220514T131742Z
LAST-MODIFIED:20221123T185903Z
UID:10000568-1669161600-1669247999@wes.pendleton.k12.or.us
SUMMARY:No School
DESCRIPTION:
URL:https://wes.pendleton.k12.or.us/event/no-school-3/
CATEGORIES:District Wide
END:VEVENT
BEGIN:VEVENT
DTSTART;TZID=America/Los_Angeles:20221122T073000
DTEND;TZID=America/Los_Angeles:20221122T190000
DTSTAMP:20260425T091016
CREATED:20220514T131742Z
LAST-MODIFIED:20221122T185126Z
UID:10000567-1669102200-1669143600@wes.pendleton.k12.or.us
SUMMARY:Day & Evening Parent/Teacher Conferences – No School
DESCRIPTION:Day & Evening Parent/Teacher Conferences \nPHS: 7:30 – 1:00 p.m. – Virtual in Classrooms\n1:00 p.m.- 2:00 p.m. – Lunch\n2:00 p.m.-4:00 p.m. Virtual in Classrooms\n4:00 p.m.-7:00 p.m. In Person (Arena Style) in PHS Commons \nSMS: 7:30 – 9:00 a.m. – In Person\n9:00 a.m.-1:00 p.m. – Virtual\n1:00 p.m.- 2:00 p.m. – Lunch\n2:00 p.m.-4:00 p.m. Virtual\n4:00 p.m.-7:00 p.m. In Person \nElementary: 7:30 a.m. – 7:00 p.m. with an hour lunch around the middle of the day.
URL:https://wes.pendleton.k12.or.us/event/day-evening-parent-teacher-conferences-no-school/
CATEGORIES:District Wide
END:VEVENT
BEGIN:VEVENT
DTSTART;TZID=America/Los_Angeles:20221121T160000
DTEND;TZID=America/Los_Angeles:20221121T200000
DTSTAMP:20260425T091016
CREATED:20220514T131742Z
LAST-MODIFIED:20221121T184350Z
UID:10000566-1669046400-1669060800@wes.pendleton.k12.or.us
SUMMARY:Evening Parent/Teacher Conference
DESCRIPTION:Evening Parent/Teacher Conference \nPHS:  4:00-8:00 p.m. – In Person (Arena style) in PHS commons\nSMS: 4:00-8:00 p.m. – In Person\nElementary: 4:00-8:00 p.m. – In Person
URL:https://wes.pendleton.k12.or.us/event/evening-parent-teacher-conference/
CATEGORIES:District Wide
END:VEVENT
BEGIN:VEVENT
DTSTART;VALUE=DATE:20221121
DTEND;VALUE=DATE:20221122
DTSTAMP:20260425T091016
CREATED:20220514T131742Z
LAST-MODIFIED:20221121T184350Z
UID:10000565-1668988800-1669075199@wes.pendleton.k12.or.us
SUMMARY:Late Start
DESCRIPTION:
URL:https://wes.pendleton.k12.or.us/event/late-start-10/
CATEGORIES:District Wide
END:VEVENT
BEGIN:VEVENT
DTSTART;VALUE=DATE:20221114
DTEND;VALUE=DATE:20221115
DTSTAMP:20260425T091016
CREATED:20220514T131742Z
LAST-MODIFIED:20221114T181421Z
UID:10000564-1668384000-1668470399@wes.pendleton.k12.or.us
SUMMARY:Late Start
DESCRIPTION:
URL:https://wes.pendleton.k12.or.us/event/late-start-9/
CATEGORIES:District Wide
END:VEVENT
BEGIN:VEVENT
DTSTART;VALUE=DATE:20221111
DTEND;VALUE=DATE:20221112
DTSTAMP:20260425T091016
CREATED:20220514T131742Z
LAST-MODIFIED:20221111T180137Z
UID:10000563-1668124800-1668211199@wes.pendleton.k12.or.us
SUMMARY:Veteran’s Day – No School
DESCRIPTION:
URL:https://wes.pendleton.k12.or.us/event/veterans-day-no-school-2/
CATEGORIES:District Wide
END:VEVENT
BEGIN:VEVENT
DTSTART;VALUE=DATE:20221107
DTEND;VALUE=DATE:20221108
DTSTAMP:20260425T091016
CREATED:20220514T131742Z
LAST-MODIFIED:20221107T175910Z
UID:10000562-1667779200-1667865599@wes.pendleton.k12.or.us
SUMMARY:Late Start
DESCRIPTION:
URL:https://wes.pendleton.k12.or.us/event/late-start-8/
CATEGORIES:District Wide
END:VEVENT
END:VCALENDAR