BEGIN:VCALENDAR
VERSION:2.0
PRODID:-//Washington Elementary School - ECPv6.13.0//NONSGML v1.0//EN
CALSCALE:GREGORIAN
METHOD:PUBLISH
X-WR-CALNAME:Washington Elementary School
X-ORIGINAL-URL:https://wes.pendleton.k12.or.us
X-WR-CALDESC:Events for Washington Elementary School
REFRESH-INTERVAL;VALUE=DURATION:PT1H
X-Robots-Tag:noindex
X-PUBLISHED-TTL:PT1H
BEGIN:VTIMEZONE
TZID:America/Los_Angeles
BEGIN:DAYLIGHT
TZOFFSETFROM:-0800
TZOFFSETTO:-0700
TZNAME:PDT
DTSTART:20210314T100000
END:DAYLIGHT
BEGIN:STANDARD
TZOFFSETFROM:-0700
TZOFFSETTO:-0800
TZNAME:PST
DTSTART:20211107T090000
END:STANDARD
BEGIN:DAYLIGHT
TZOFFSETFROM:-0800
TZOFFSETTO:-0700
TZNAME:PDT
DTSTART:20220313T100000
END:DAYLIGHT
BEGIN:STANDARD
TZOFFSETFROM:-0700
TZOFFSETTO:-0800
TZNAME:PST
DTSTART:20221106T090000
END:STANDARD
END:VTIMEZONE
BEGIN:VEVENT
DTSTART;TZID=America/Los_Angeles:20220411T180000
DTEND;TZID=America/Los_Angeles:20220411T193000
DTSTAMP:20260425T174451
CREATED:20210719T213719Z
LAST-MODIFIED:20220411T084407Z
UID:10000512-1649700000-1649705400@wes.pendleton.k12.or.us
SUMMARY:Board Meeting
DESCRIPTION:District Office
URL:https://wes.pendleton.k12.or.us/event/board-meeting-21/
CATEGORIES:District Wide
END:VEVENT
BEGIN:VEVENT
DTSTART;TZID=America/Los_Angeles:20220405T080000
DTEND;TZID=America/Los_Angeles:20220405T090000
DTSTAMP:20260425T174451
CREATED:20210719T213719Z
LAST-MODIFIED:20220405T075934Z
UID:10000511-1649145600-1649149200@wes.pendleton.k12.or.us
SUMMARY:Board Work Session – Cancelled
DESCRIPTION:District Office
URL:https://wes.pendleton.k12.or.us/event/board-work-session-9/
CATEGORIES:District Wide
END:VEVENT
BEGIN:VEVENT
DTSTART;TZID=America/Los_Angeles:20220321T080000
DTEND;TZID=America/Los_Angeles:20220325T170000
DTSTAMP:20260425T174451
CREATED:20210707T191941Z
LAST-MODIFIED:20220321T060452Z
UID:10000479-1647849600-1648227600@wes.pendleton.k12.or.us
SUMMARY:Spring Break – No School
DESCRIPTION:
URL:https://wes.pendleton.k12.or.us/event/spring-break-no-school-2/
CATEGORIES:District Wide
END:VEVENT
BEGIN:VEVENT
DTSTART;TZID=America/Los_Angeles:20220314T180000
DTEND;TZID=America/Los_Angeles:20220314T193000
DTSTAMP:20260425T174451
CREATED:20210719T213719Z
LAST-MODIFIED:20220314T054327Z
UID:10000510-1647280800-1647286200@wes.pendleton.k12.or.us
SUMMARY:Board Meeting
DESCRIPTION:District Office
URL:https://wes.pendleton.k12.or.us/event/board-meeting-20/
CATEGORIES:District Wide
END:VEVENT
BEGIN:VEVENT
DTSTART;TZID=America/Los_Angeles:20220311T080000
DTEND;TZID=America/Los_Angeles:20220311T170000
DTSTAMP:20260425T174451
CREATED:20210707T191941Z
LAST-MODIFIED:20220311T051429Z
UID:10000431-1646985600-1647018000@wes.pendleton.k12.or.us
SUMMARY:Regional In-service – No School
DESCRIPTION:
URL:https://wes.pendleton.k12.or.us/event/regional-in-service-no-school-2/
CATEGORIES:District Wide
END:VEVENT
BEGIN:VEVENT
DTSTART;TZID=America/Los_Angeles:20220310T160000
DTEND;TZID=America/Los_Angeles:20220310T200000
DTSTAMP:20260425T174451
CREATED:20210707T191941Z
LAST-MODIFIED:20220310T051349Z
UID:10000429-1646928000-1646942400@wes.pendleton.k12.or.us
SUMMARY:Evening Parent/Teacher Conferences
DESCRIPTION:
URL:https://wes.pendleton.k12.or.us/event/evening-parent-teacher-conferences-3/
CATEGORIES:District Wide
END:VEVENT
BEGIN:VEVENT
DTSTART;TZID=America/Los_Angeles:20220308T160000
DTEND;TZID=America/Los_Angeles:20220308T200000
DTSTAMP:20260425T174451
CREATED:20210707T191941Z
LAST-MODIFIED:20220308T050654Z
UID:10000427-1646755200-1646769600@wes.pendleton.k12.or.us
SUMMARY:Evening Parent/Teacher Conferences
DESCRIPTION:
URL:https://wes.pendleton.k12.or.us/event/evening-parent-teacher-conferences-2/
CATEGORIES:District Wide
END:VEVENT
BEGIN:VEVENT
DTSTART;TZID=America/Los_Angeles:20220308T080000
DTEND;TZID=America/Los_Angeles:20220308T090000
DTSTAMP:20260425T174451
CREATED:20210719T213719Z
LAST-MODIFIED:20220308T050654Z
UID:10000509-1646726400-1646730000@wes.pendleton.k12.or.us
SUMMARY:Board Work Session
DESCRIPTION:District Office
URL:https://wes.pendleton.k12.or.us/event/board-work-session-8/
CATEGORIES:District Wide
END:VEVENT
BEGIN:VEVENT
DTSTART;VALUE=DATE:20220222
DTEND;VALUE=DATE:20220223
DTSTAMP:20260425T174451
CREATED:20220222T132615Z
LAST-MODIFIED:20220222T132635Z
UID:10000547-1645488000-1645574399@wes.pendleton.k12.or.us
SUMMARY:No School - Cancelled due to weather
DESCRIPTION:Due to road conditions and weather forecast\, school is cancelled for Tuesday\, February 22\, 2022.
URL:https://wes.pendleton.k12.or.us/event/no-school-cancelled/
CATEGORIES:District Wide
END:VEVENT
BEGIN:VEVENT
DTSTART;TZID=America/Los_Angeles:20220221T080000
DTEND;TZID=America/Los_Angeles:20220221T170000
DTSTAMP:20260425T174451
CREATED:20210707T191941Z
LAST-MODIFIED:20220221T024614Z
UID:10000425-1645430400-1645462800@wes.pendleton.k12.or.us
SUMMARY:No School
DESCRIPTION:
URL:https://wes.pendleton.k12.or.us/event/no-school-2/
CATEGORIES:District Wide
END:VEVENT
BEGIN:VEVENT
DTSTART;TZID=America/Los_Angeles:20220214T180000
DTEND;TZID=America/Los_Angeles:20220214T193000
DTSTAMP:20260425T174451
CREATED:20210719T213719Z
LAST-MODIFIED:20220214T021630Z
UID:10000508-1644861600-1644867000@wes.pendleton.k12.or.us
SUMMARY:Board Meeting
DESCRIPTION:District Office
URL:https://wes.pendleton.k12.or.us/event/board-meeting-19/
CATEGORIES:District Wide
END:VEVENT
BEGIN:VEVENT
DTSTART;TZID=America/Los_Angeles:20220208T080000
DTEND;TZID=America/Los_Angeles:20220208T090000
DTSTAMP:20260425T174451
CREATED:20210719T213719Z
LAST-MODIFIED:20220208T231339Z
UID:10000507-1644307200-1644310800@wes.pendleton.k12.or.us
SUMMARY:Board Work Session
DESCRIPTION:District Office
URL:https://wes.pendleton.k12.or.us/event/board-work-session-7/
CATEGORIES:District Wide
END:VEVENT
BEGIN:VEVENT
DTSTART;TZID=America/Los_Angeles:20220131T080000
DTEND;TZID=America/Los_Angeles:20220131T170000
DTSTAMP:20260425T174451
CREATED:20210707T191941Z
LAST-MODIFIED:20220131T230442Z
UID:10000423-1643616000-1643648400@wes.pendleton.k12.or.us
SUMMARY:Staff In-service – No School
DESCRIPTION:End of 1st Semester
URL:https://wes.pendleton.k12.or.us/event/staff-in-service-no-school-2/
CATEGORIES:District Wide
END:VEVENT
BEGIN:VEVENT
DTSTART;TZID=America/Los_Angeles:20220119T190000
DTEND;TZID=America/Los_Angeles:20220119T200000
DTSTAMP:20260425T174451
CREATED:20220113T204242Z
LAST-MODIFIED:20220119T211409Z
UID:10000545-1642618800-1642622400@wes.pendleton.k12.or.us
SUMMARY:Focus Group for Superintendent Search
DESCRIPTION:The community is invited to Pendleton High School on Wednesday\, January 19th at 7:00 pm to share your thoughts on the strengths and challenges of our district as well as the qualities you desire in the next superintendent.  The meeting is offered in English and Spanish.
URL:https://wes.pendleton.k12.or.us/event/focus-group-for-superintendent-search/
CATEGORIES:District Wide
END:VEVENT
BEGIN:VEVENT
DTSTART;TZID=America/Los_Angeles:20220117T080000
DTEND;TZID=America/Los_Angeles:20220117T170000
DTSTAMP:20260425T174451
CREATED:20210707T191941Z
LAST-MODIFIED:20220117T210750Z
UID:10000422-1642406400-1642438800@wes.pendleton.k12.or.us
SUMMARY:Martin Luther King Jr Day – No School
DESCRIPTION:
URL:https://wes.pendleton.k12.or.us/event/martin-luther-king-jr-day-no-school/
CATEGORIES:District Wide
END:VEVENT
BEGIN:VEVENT
DTSTART;TZID=America/Los_Angeles:20220110T180000
DTEND;TZID=America/Los_Angeles:20220110T193000
DTSTAMP:20260425T174451
CREATED:20210719T213719Z
LAST-MODIFIED:20220110T202026Z
UID:10000506-1641837600-1641843000@wes.pendleton.k12.or.us
SUMMARY:Board Meeting
DESCRIPTION:District Office
URL:https://wes.pendleton.k12.or.us/event/board-meeting-18/
CATEGORIES:District Wide
END:VEVENT
BEGIN:VEVENT
DTSTART;VALUE=DATE:20220106
DTEND;VALUE=DATE:20220107
DTSTAMP:20260425T174451
CREATED:20220106T194333Z
LAST-MODIFIED:20220106T194334Z
UID:10000543-1641427200-1641513599@wes.pendleton.k12.or.us
SUMMARY:2 Hour Late Start
DESCRIPTION:Thursday\, January 6\, 2022 – 2 Hour Late Start \nNo breakfast will be served today. \nThere will be no busing for the following areas: Poverty Flats\, Meacham\, Cayuse\, Thompson Lane\, and the airport area. Students from the North Hill and P-Tech areas will need to catch the bus at the Lincoln or Pioneer Park stops. SW 3rd and Isaac will be the last stop in the May Park area. \nIf you are not able to get your child to school safely or do not feel comfortable sending them today\, please call the school to excuse them.
URL:https://wes.pendleton.k12.or.us/event/2-hour-late-start/
CATEGORIES:District Wide
END:VEVENT
BEGIN:VEVENT
DTSTART;VALUE=DATE:20220106
DTEND;VALUE=DATE:20220107
DTSTAMP:20260425T174451
CREATED:20220106T132627Z
LAST-MODIFIED:20220106T132639Z
UID:10000540-1641427200-1641513599@wes.pendleton.k12.or.us
SUMMARY:2 Hour Late Start
DESCRIPTION:Thursday\, January 6\, 2022 – 2 Hour Late Start \nNo breakfast will be served today. \nThere will be no busing for the following areas: Poverty Flats\, Meacham\, Cayuse\, Thompson Lane\, and the airport area. Students from the North Hill and P-Tech areas will need to catch the bus at the Lincoln or Pioneer Park stops. SW 3rd and Isaac will be the last stop in the May Park area. \nIf you are not able to get your child to school safely or do not feel comfortable sending them today\, please call the school to excuse them.
URL:https://wes.pendleton.k12.or.us/event/2-hour-late-start-3/
CATEGORIES:District Wide
END:VEVENT
BEGIN:VEVENT
DTSTART;VALUE=DATE:20220105
DTEND;VALUE=DATE:20220106
DTSTAMP:20260425T174451
CREATED:20220105T193027Z
LAST-MODIFIED:20220105T193028Z
UID:10000538-1641340800-1641427199@wes.pendleton.k12.or.us
SUMMARY:2 Hour Late Start
DESCRIPTION:Pendleton School District is on a 2 hour late start – Wednesday\, January 5\, 2022\n\nNo breakfast will be served today.\n\nThere will be no busing for the following areas: Poverty Flats\, Meacham\, Cayuse\, Thompson Lane\, and the airport area.  Students from the North Hill and P-Tech areas will need to catch the bus at the Lincoln or Pioneer Park stops.  SW 3rd and Isaac will be the last stop in the May Park area.\n\nf you are not able to get your child to school safely or do not feel comfortable sending them today\, please call the school to excuse them.
URL:https://wes.pendleton.k12.or.us/event/2-hour-late-start-2/
CATEGORIES:District Wide
END:VEVENT
BEGIN:VEVENT
DTSTART;TZID=America/Los_Angeles:20220104T080000
DTEND;TZID=America/Los_Angeles:20220104T090000
DTSTAMP:20260425T174451
CREATED:20210719T213719Z
LAST-MODIFIED:20220104T191832Z
UID:10000505-1641283200-1641286800@wes.pendleton.k12.or.us
SUMMARY:Board Work Session
DESCRIPTION:District Office
URL:https://wes.pendleton.k12.or.us/event/board-work-session-6/
CATEGORIES:District Wide
END:VEVENT
BEGIN:VEVENT
DTSTART;VALUE=DATE:20220104
DTEND;VALUE=DATE:20220105
DTSTAMP:20260425T174451
CREATED:20220104T191832Z
LAST-MODIFIED:20220104T191832Z
UID:10000533-1641254400-1641340799@wes.pendleton.k12.or.us
SUMMARY:No School – Cancelled due to weather
DESCRIPTION:Tuesday\, January 4\, 2022 – No School\n\n\nDue to ongoing road and weather conditions\, school is cancelled for Tuesday\, January 4\, 2022.\n\n\nPlease be safe!
URL:https://wes.pendleton.k12.or.us/event/no-school-cancelled-due-to-weather/
CATEGORIES:District Wide
END:VEVENT
BEGIN:VEVENT
DTSTART;TZID=America/Los_Angeles:20220103T080000
DTEND;TZID=America/Los_Angeles:20220103T170000
DTSTAMP:20260425T174451
CREATED:20210707T191940Z
LAST-MODIFIED:20220103T191829Z
UID:10000420-1641196800-1641229200@wes.pendleton.k12.or.us
SUMMARY:School Resumes
DESCRIPTION:
URL:https://wes.pendleton.k12.or.us/event/school-resumes/
CATEGORIES:District Wide
END:VEVENT
BEGIN:VEVENT
DTSTART;VALUE=DATE:20220103
DTEND;VALUE=DATE:20220104
DTSTAMP:20260425T174451
CREATED:20220105T191122Z
LAST-MODIFIED:20220105T192259Z
UID:10000535-1641168000-1641254399@wes.pendleton.k12.or.us
SUMMARY:No School – Cancelled due to weather
DESCRIPTION:No School – Monday\, January 3\, 2022\nDue to current road conditions and the weather forecast\, school is cancelled for Monday\, January 3\, 2022.\nPlease be safe.
URL:https://wes.pendleton.k12.or.us/event/no-school-cancelled-due-to-weather-2/
CATEGORIES:District Wide
END:VEVENT
BEGIN:VEVENT
DTSTART;TZID=America/Los_Angeles:20211222T080000
DTEND;TZID=America/Los_Angeles:20211231T170000
DTSTAMP:20260425T174451
CREATED:20210707T191940Z
LAST-MODIFIED:20211222T184458Z
UID:10000418-1640160000-1640970000@wes.pendleton.k12.or.us
SUMMARY:Winter Break – No School
DESCRIPTION:
URL:https://wes.pendleton.k12.or.us/event/winter-break-no-school/
CATEGORIES:District Wide
END:VEVENT
BEGIN:VEVENT
DTSTART;VALUE=DATE:20211220
DTEND;VALUE=DATE:20211221
DTSTAMP:20260425T174451
CREATED:20211220T184409Z
LAST-MODIFIED:20211220T184410Z
UID:10000531-1639958400-1640044799@wes.pendleton.k12.or.us
SUMMARY:School is Cancelled
DESCRIPTION:Due to current road conditions and today’s forecast\, school is cancelled for Monday\, December 20\, 2021
URL:https://wes.pendleton.k12.or.us/event/school-is-cancelled-2/
CATEGORIES:District Wide
END:VEVENT
BEGIN:VEVENT
DTSTART;VALUE=DATE:20211220
DTEND;VALUE=DATE:20211221
DTSTAMP:20260425T174451
CREATED:20211220T134350Z
LAST-MODIFIED:20211220T134350Z
UID:10000530-1639958400-1640044799@wes.pendleton.k12.or.us
SUMMARY:School is Cancelled
DESCRIPTION:Due to current road conditions and today’s forecast\, school is cancelled for Monday\, December 20\, 2021
URL:https://wes.pendleton.k12.or.us/event/school-is-cancelled/
CATEGORIES:District Wide
END:VEVENT
BEGIN:VEVENT
DTSTART;TZID=America/Los_Angeles:20211213T180000
DTEND;TZID=America/Los_Angeles:20211213T193000
DTSTAMP:20260425T174451
CREATED:20210719T213719Z
LAST-MODIFIED:20211213T182835Z
UID:10000504-1639418400-1639423800@wes.pendleton.k12.or.us
SUMMARY:Board Meeting
DESCRIPTION:District Office
URL:https://wes.pendleton.k12.or.us/event/board-meeting-17/
CATEGORIES:District Wide
END:VEVENT
BEGIN:VEVENT
DTSTART;TZID=America/Los_Angeles:20211207T080000
DTEND;TZID=America/Los_Angeles:20211207T090000
DTSTAMP:20260425T174451
CREATED:20210719T213719Z
LAST-MODIFIED:20211207T173140Z
UID:10000503-1638864000-1638867600@wes.pendleton.k12.or.us
SUMMARY:Board Work Session
DESCRIPTION:District Office
URL:https://wes.pendleton.k12.or.us/event/board-work-session-5/
CATEGORIES:District Wide
END:VEVENT
BEGIN:VEVENT
DTSTART;TZID=America/Los_Angeles:20211125T080000
DTEND;TZID=America/Los_Angeles:20211126T170000
DTSTAMP:20260425T174451
CREATED:20210707T191940Z
LAST-MODIFIED:20211125T163839Z
UID:10000416-1637827200-1637946000@wes.pendleton.k12.or.us
SUMMARY:Thanksgiving Break – No School
DESCRIPTION:
URL:https://wes.pendleton.k12.or.us/event/thanksgiving-break-no-school/
CATEGORIES:District Wide
END:VEVENT
BEGIN:VEVENT
DTSTART;TZID=America/Los_Angeles:20211124T080000
DTEND;TZID=America/Los_Angeles:20211124T170000
DTSTAMP:20260425T174451
CREATED:20210707T191940Z
LAST-MODIFIED:20211124T163655Z
UID:10000414-1637740800-1637773200@wes.pendleton.k12.or.us
SUMMARY:No School
DESCRIPTION:
URL:https://wes.pendleton.k12.or.us/event/no-school/
CATEGORIES:District Wide
END:VEVENT
END:VCALENDAR