BEGIN:VCALENDAR
VERSION:2.0
PRODID:-//Washington Elementary School - ECPv6.13.0//NONSGML v1.0//EN
CALSCALE:GREGORIAN
METHOD:PUBLISH
X-ORIGINAL-URL:https://wes.pendleton.k12.or.us
X-WR-CALDESC:Events for Washington Elementary School
REFRESH-INTERVAL;VALUE=DURATION:PT1H
X-Robots-Tag:noindex
X-PUBLISHED-TTL:PT1H
BEGIN:VTIMEZONE
TZID:America/Los_Angeles
BEGIN:DAYLIGHT
TZOFFSETFROM:-0800
TZOFFSETTO:-0700
TZNAME:PDT
DTSTART:20250309T100000
END:DAYLIGHT
BEGIN:STANDARD
TZOFFSETFROM:-0700
TZOFFSETTO:-0800
TZNAME:PST
DTSTART:20251102T090000
END:STANDARD
END:VTIMEZONE
BEGIN:VEVENT
DTSTART;TZID=America/Los_Angeles:20251120T160000
DTEND;TZID=America/Los_Angeles:20251120T200000
DTSTAMP:20260421T201921
CREATED:20250905T041326Z
LAST-MODIFIED:20251120T081337Z
UID:10001115-1763654400-1763668800@wes.pendleton.k12.or.us
SUMMARY:FTC Robotics
DESCRIPTION:Let’er Bot Pendleton Robotics League Meets held in PHS Gold Gym from 4-8 pm.\nLeague Meet 0 – 11/20/2025\nLeague Meet 1 – 12/17/2025\nLeague Meet 2 – 1/14/2026\nLeague Meet 3 – 1/28/2026
URL:https://wes.pendleton.k12.or.us/event/ftc-robotics-11/
CATEGORIES:District Wide
END:VEVENT
BEGIN:VEVENT
DTSTART;TZID=America/Los_Angeles:20251117T080000
DTEND;TZID=America/Los_Angeles:20251117T170000
DTSTAMP:20260421T201921
CREATED:20250802T031644Z
LAST-MODIFIED:20251117T074333Z
UID:10001056-1763366400-1763398800@wes.pendleton.k12.or.us
SUMMARY:1 Hour Late Start
DESCRIPTION:
URL:https://wes.pendleton.k12.or.us/event/1-hour-late-start-40/
CATEGORIES:District Wide
END:VEVENT
BEGIN:VEVENT
DTSTART;VALUE=DATE:20251111
DTEND;VALUE=DATE:20251112
DTSTAMP:20260421T201921
CREATED:20250802T031644Z
LAST-MODIFIED:20251111T071329Z
UID:10001055-1762819200-1762905599@wes.pendleton.k12.or.us
SUMMARY:No School – Veterans Day
DESCRIPTION:The district is closed in honor of Veterans Day.
URL:https://wes.pendleton.k12.or.us/event/no-school-veterans-day/
CATEGORIES:District Wide
END:VEVENT
BEGIN:VEVENT
DTSTART;TZID=America/Los_Angeles:20251110T180000
DTEND;TZID=America/Los_Angeles:20251110T193000
DTSTAMP:20260421T201921
CREATED:20251107T071430Z
LAST-MODIFIED:20251110T071339Z
UID:10001134-1762797600-1762803000@wes.pendleton.k12.or.us
SUMMARY:Board Meeting
DESCRIPTION:The Pendleton School District Board of Directors meet for a regular board meeting at Hamley’s Steakhouse Pendleton Room.
URL:https://wes.pendleton.k12.or.us/event/board-meeting-49/
CATEGORIES:District Wide
END:VEVENT
BEGIN:VEVENT
DTSTART;TZID=America/Los_Angeles:20251110T180000
DTEND;TZID=America/Los_Angeles:20251110T193000
DTSTAMP:20260421T201921
CREATED:20250802T031644Z
LAST-MODIFIED:20251106T071330Z
UID:10001054-1762797600-1762803000@wes.pendleton.k12.or.us
SUMMARY:Board Meeting
DESCRIPTION:The Pendleton School District Board of Directors meet for a regular board meeting.
URL:https://wes.pendleton.k12.or.us/event/board-meeting-40/
CATEGORIES:District Wide
END:VEVENT
BEGIN:VEVENT
DTSTART;TZID=America/Los_Angeles:20251110T080000
DTEND;TZID=America/Los_Angeles:20251110T170000
DTSTAMP:20260421T201921
CREATED:20250802T031644Z
LAST-MODIFIED:20251110T071339Z
UID:10001053-1762761600-1762794000@wes.pendleton.k12.or.us
SUMMARY:1 Hour Late Start
DESCRIPTION:
URL:https://wes.pendleton.k12.or.us/event/1-hour-late-start-39/
CATEGORIES:District Wide
END:VEVENT
BEGIN:VEVENT
DTSTART;TZID=America/Los_Angeles:20251104T080000
DTEND;TZID=America/Los_Angeles:20251104T090000
DTSTAMP:20260421T201921
CREATED:20250802T031644Z
LAST-MODIFIED:20251104T071343Z
UID:10001052-1762243200-1762246800@wes.pendleton.k12.or.us
SUMMARY:Work Session
DESCRIPTION:The Pendleton School District Board of Directors Work Session.
URL:https://wes.pendleton.k12.or.us/event/work-session-4/
CATEGORIES:District Wide
END:VEVENT
BEGIN:VEVENT
DTSTART;TZID=America/Los_Angeles:20251103T080000
DTEND;TZID=America/Los_Angeles:20251103T170000
DTSTAMP:20260421T201921
CREATED:20250802T031644Z
LAST-MODIFIED:20251103T065844Z
UID:10001051-1762156800-1762189200@wes.pendleton.k12.or.us
SUMMARY:1 Hour Late Start
DESCRIPTION:
URL:https://wes.pendleton.k12.or.us/event/1-hour-late-start-38/
CATEGORIES:District Wide
END:VEVENT
BEGIN:VEVENT
DTSTART;TZID=America/Los_Angeles:20251027T080000
DTEND;TZID=America/Los_Angeles:20251027T170000
DTSTAMP:20260421T201921
CREATED:20250802T031644Z
LAST-MODIFIED:20251027T064335Z
UID:10001050-1761552000-1761584400@wes.pendleton.k12.or.us
SUMMARY:1 Hour Late Start
DESCRIPTION:
URL:https://wes.pendleton.k12.or.us/event/1-hour-late-start-37/
CATEGORIES:District Wide
END:VEVENT
BEGIN:VEVENT
DTSTART;TZID=America/Los_Angeles:20251020T080000
DTEND;TZID=America/Los_Angeles:20251020T170000
DTSTAMP:20260421T201921
CREATED:20250802T031643Z
LAST-MODIFIED:20251020T062833Z
UID:10001049-1760947200-1760979600@wes.pendleton.k12.or.us
SUMMARY:1 Hour Late Start
DESCRIPTION:
URL:https://wes.pendleton.k12.or.us/event/1-hour-late-start-36/
CATEGORIES:District Wide
END:VEVENT
BEGIN:VEVENT
DTSTART;TZID=America/Los_Angeles:20251013T180000
DTEND;TZID=America/Los_Angeles:20251013T193000
DTSTAMP:20260421T201921
CREATED:20250802T031643Z
LAST-MODIFIED:20251013T061339Z
UID:10001048-1760378400-1760383800@wes.pendleton.k12.or.us
SUMMARY:Board Meeting
DESCRIPTION:The Pendleton School District Board of Directors meet for a regular board meeting.
URL:https://wes.pendleton.k12.or.us/event/board-meeting-39/
CATEGORIES:District Wide
END:VEVENT
BEGIN:VEVENT
DTSTART;TZID=America/Los_Angeles:20251013T080000
DTEND;TZID=America/Los_Angeles:20251013T170000
DTSTAMP:20260421T201921
CREATED:20250802T031643Z
LAST-MODIFIED:20251013T061324Z
UID:10001047-1760342400-1760374800@wes.pendleton.k12.or.us
SUMMARY:1 Hour Late Start
DESCRIPTION:
URL:https://wes.pendleton.k12.or.us/event/1-hour-late-start-35/
CATEGORIES:District Wide
END:VEVENT
BEGIN:VEVENT
DTSTART;VALUE=DATE:20251010
DTEND;VALUE=DATE:20251011
DTSTAMP:20260421T201921
CREATED:20250802T031643Z
LAST-MODIFIED:20251010T061349Z
UID:10001046-1760054400-1760140799@wes.pendleton.k12.or.us
SUMMARY:No School – State In-Service
DESCRIPTION:No school due to statewide in-service
URL:https://wes.pendleton.k12.or.us/event/no-school-state-in-service/
CATEGORIES:District Wide
END:VEVENT
BEGIN:VEVENT
DTSTART;TZID=America/Los_Angeles:20251007T080000
DTEND;TZID=America/Los_Angeles:20251007T090000
DTSTAMP:20260421T201921
CREATED:20250802T031643Z
LAST-MODIFIED:20251007T055837Z
UID:10001045-1759824000-1759827600@wes.pendleton.k12.or.us
SUMMARY:Work Session
DESCRIPTION:The Pendleton School District Board of Directors Work Session.
URL:https://wes.pendleton.k12.or.us/event/work-session-3/
CATEGORIES:District Wide
END:VEVENT
BEGIN:VEVENT
DTSTART;TZID=America/Los_Angeles:20251006T080000
DTEND;TZID=America/Los_Angeles:20251006T170000
DTSTAMP:20260421T201921
CREATED:20250802T031643Z
LAST-MODIFIED:20251006T055851Z
UID:10001044-1759737600-1759770000@wes.pendleton.k12.or.us
SUMMARY:1 Hour Late Start
DESCRIPTION:
URL:https://wes.pendleton.k12.or.us/event/1-hour-late-start-34/
CATEGORIES:District Wide
END:VEVENT
BEGIN:VEVENT
DTSTART;TZID=America/Los_Angeles:20250929T080000
DTEND;TZID=America/Los_Angeles:20250929T170000
DTSTAMP:20260421T201921
CREATED:20250802T031643Z
LAST-MODIFIED:20250929T054350Z
UID:10001043-1759132800-1759165200@wes.pendleton.k12.or.us
SUMMARY:1 Hour Late Start
DESCRIPTION:
URL:https://wes.pendleton.k12.or.us/event/1-hour-late-start-33/
CATEGORIES:District Wide
END:VEVENT
BEGIN:VEVENT
DTSTART;TZID=America/Los_Angeles:20250922T080000
DTEND;TZID=America/Los_Angeles:20250922T170000
DTSTAMP:20260421T201921
CREATED:20250802T031643Z
LAST-MODIFIED:20250922T051340Z
UID:10001042-1758528000-1758560400@wes.pendleton.k12.or.us
SUMMARY:1 Hour Late Start
DESCRIPTION:
URL:https://wes.pendleton.k12.or.us/event/1-hour-late-start-32/
CATEGORIES:District Wide
END:VEVENT
BEGIN:VEVENT
DTSTART;TZID=America/Los_Angeles:20250915T180000
DTEND;TZID=America/Los_Angeles:20250915T193000
DTSTAMP:20260421T201921
CREATED:20250802T031643Z
LAST-MODIFIED:20250915T045847Z
UID:10001040-1757959200-1757964600@wes.pendleton.k12.or.us
SUMMARY:Board Meeting
DESCRIPTION:The Pendleton School District Board of Directors meet for a regular board meeting.
URL:https://wes.pendleton.k12.or.us/event/board-meeting-38/
CATEGORIES:District Wide
END:VEVENT
BEGIN:VEVENT
DTSTART;TZID=America/Los_Angeles:20250915T080000
DTEND;TZID=America/Los_Angeles:20250915T170000
DTSTAMP:20260421T201921
CREATED:20251016T061324Z
LAST-MODIFIED:20251017T061347Z
UID:10001121-1757923200-1757955600@wes.pendleton.k12.or.us
SUMMARY:1 Hour Late Start
DESCRIPTION:
URL:https://wes.pendleton.k12.or.us/event/1-hour-late-start-62/
CATEGORIES:District Wide
END:VEVENT
BEGIN:VEVENT
DTSTART;TZID=America/Los_Angeles:20250915T080000
DTEND;TZID=America/Los_Angeles:20250915T170000
DTSTAMP:20260421T201921
CREATED:20250802T031643Z
LAST-MODIFIED:20250915T045847Z
UID:10001039-1757923200-1757955600@wes.pendleton.k12.or.us
SUMMARY:1 Hour Late Start
DESCRIPTION:
URL:https://wes.pendleton.k12.or.us/event/1-hour-late-start-31/
CATEGORIES:District Wide
END:VEVENT
BEGIN:VEVENT
DTSTART;VALUE=DATE:20250908
DTEND;VALUE=DATE:20250913
DTSTAMP:20260421T201921
CREATED:20250802T031643Z
LAST-MODIFIED:20250908T043927Z
UID:10001038-1757289600-1757721599@wes.pendleton.k12.or.us
SUMMARY:No School – Round Up/Happy Canyon
DESCRIPTION:There is no school the week of Round-Up and Happy Canyon\, September 8-12\, 2025.
URL:https://wes.pendleton.k12.or.us/event/no-school-round-up-happy-canyon/
CATEGORIES:District Wide
END:VEVENT
BEGIN:VEVENT
DTSTART;TZID=America/Los_Angeles:20250904T163000
DTEND;TZID=America/Los_Angeles:20250904T183000
DTSTAMP:20260421T201921
CREATED:20250516T151333Z
LAST-MODIFIED:20250904T041321Z
UID:10001023-1757003400-1757010600@wes.pendleton.k12.or.us
SUMMARY:K-5 Open House
DESCRIPTION:The PELC\, McKay\, Sherwood\, and Washington Elementary Schools invite you to their open house from 4:30-6:30.
URL:https://wes.pendleton.k12.or.us/event/k-5-open-house/
CATEGORIES:District Wide
END:VEVENT
BEGIN:VEVENT
DTSTART;TZID=America/Los_Angeles:20250902T080000
DTEND;TZID=America/Los_Angeles:20250902T090000
DTSTAMP:20260421T201921
CREATED:20250802T031642Z
LAST-MODIFIED:20250826T044400Z
UID:10001037-1756800000-1756803600@wes.pendleton.k12.or.us
SUMMARY:Work Session
DESCRIPTION:The Pendleton School District Board of Directors Work Session.
URL:https://wes.pendleton.k12.or.us/event/work-session-2/
CATEGORIES:District Wide
END:VEVENT
BEGIN:VEVENT
DTSTART;VALUE=DATE:20250901
DTEND;VALUE=DATE:20250902
DTSTAMP:20260421T201921
CREATED:20250802T031642Z
LAST-MODIFIED:20250826T044400Z
UID:10001036-1756684800-1756771199@wes.pendleton.k12.or.us
SUMMARY:No School – Holiday
DESCRIPTION:Labor Day holiday\, no school.
URL:https://wes.pendleton.k12.or.us/event/no-school-holiday-5/
CATEGORIES:District Wide
END:VEVENT
BEGIN:VEVENT
DTSTART;VALUE=DATE:20250826
DTEND;VALUE=DATE:20250829
DTSTAMP:20260421T201921
CREATED:20250802T031642Z
LAST-MODIFIED:20250826T044400Z
UID:10001035-1756166400-1756425599@wes.pendleton.k12.or.us
SUMMARY:Soft Start – K/Grade 1
DESCRIPTION:Kindergarten and Grade 1 soft start Aug 26-28\, 2025. Contact your student’s school for more information.
URL:https://wes.pendleton.k12.or.us/event/soft-start-k-grade-1/
CATEGORIES:District Wide
END:VEVENT
BEGIN:VEVENT
DTSTART;VALUE=DATE:20250826
DTEND;VALUE=DATE:20250827
DTSTAMP:20260421T201921
CREATED:20250802T031642Z
LAST-MODIFIED:20250826T044400Z
UID:10001034-1756166400-1756252799@wes.pendleton.k12.or.us
SUMMARY:First Day of School
DESCRIPTION:Grades 2-12
URL:https://wes.pendleton.k12.or.us/event/first-day-of-school-3/
CATEGORIES:District Wide
END:VEVENT
BEGIN:VEVENT
DTSTART;VALUE=DATE:20250825
DTEND;VALUE=DATE:20250826
DTSTAMP:20260421T201921
CREATED:20250802T031642Z
LAST-MODIFIED:20250825T035923Z
UID:10001033-1756080000-1756166399@wes.pendleton.k12.or.us
SUMMARY:In-Service
DESCRIPTION:All Staff In-Service
URL:https://wes.pendleton.k12.or.us/event/in-service-8/
CATEGORIES:District Wide
END:VEVENT
BEGIN:VEVENT
DTSTART;VALUE=DATE:20250822
DTEND;VALUE=DATE:20250823
DTSTAMP:20260421T201921
CREATED:20250802T031642Z
LAST-MODIFIED:20250822T035825Z
UID:10001032-1755820800-1755907199@wes.pendleton.k12.or.us
SUMMARY:In-Service
DESCRIPTION:All Staff In-service
URL:https://wes.pendleton.k12.or.us/event/in-service-7/
CATEGORIES:District Wide
END:VEVENT
BEGIN:VEVENT
DTSTART;VALUE=DATE:20250821
DTEND;VALUE=DATE:20250822
DTSTAMP:20260421T201921
CREATED:20250606T164329Z
LAST-MODIFIED:20250821T035915Z
UID:10001028-1755734400-1755820799@wes.pendleton.k12.or.us
SUMMARY:In-Service
DESCRIPTION:Certified Staff In-service
URL:https://wes.pendleton.k12.or.us/event/in-service-6/
CATEGORIES:District Wide
END:VEVENT
BEGIN:VEVENT
DTSTART;VALUE=DATE:20250820
DTEND;VALUE=DATE:20250821
DTSTAMP:20260421T201921
CREATED:20250606T164328Z
LAST-MODIFIED:20250820T035833Z
UID:10001027-1755648000-1755734399@wes.pendleton.k12.or.us
SUMMARY:In-Service
DESCRIPTION:Certified Staff In-service
URL:https://wes.pendleton.k12.or.us/event/in-service-5/
CATEGORIES:District Wide
END:VEVENT
END:VCALENDAR