BEGIN:VCALENDAR
VERSION:2.0
PRODID:-//Washington Elementary School - ECPv6.13.0//NONSGML v1.0//EN
CALSCALE:GREGORIAN
METHOD:PUBLISH
X-ORIGINAL-URL:https://wes.pendleton.k12.or.us
X-WR-CALDESC:Events for Washington Elementary School
REFRESH-INTERVAL;VALUE=DURATION:PT1H
X-Robots-Tag:noindex
X-PUBLISHED-TTL:PT1H
BEGIN:VTIMEZONE
TZID:America/Los_Angeles
BEGIN:DAYLIGHT
TZOFFSETFROM:-0800
TZOFFSETTO:-0700
TZNAME:PDT
DTSTART:20250309T100000
END:DAYLIGHT
BEGIN:STANDARD
TZOFFSETFROM:-0700
TZOFFSETTO:-0800
TZNAME:PST
DTSTART:20251102T090000
END:STANDARD
END:VTIMEZONE
BEGIN:VEVENT
DTSTART;TZID=America/Los_Angeles:20250708T080000
DTEND;TZID=America/Los_Angeles:20250708T090000
DTSTAMP:20260422T004758
CREATED:20240730T022957Z
LAST-MODIFIED:20250707T024326Z
UID:10000943-1751961600-1751965200@wes.pendleton.k12.or.us
SUMMARY:Board Work Session
DESCRIPTION:Meets in the District Office boardroom
URL:https://wes.pendleton.k12.or.us/event/board-work-session-34/
CATEGORIES:District Wide
END:VEVENT
BEGIN:VEVENT
DTSTART;TZID=America/Los_Angeles:20250609T180000
DTEND;TZID=America/Los_Angeles:20250609T193000
DTSTAMP:20260422T004758
CREATED:20240730T022957Z
LAST-MODIFIED:20250609T165900Z
UID:10000942-1749492000-1749497400@wes.pendleton.k12.or.us
SUMMARY:Regular Board Meeting
DESCRIPTION:
URL:https://wes.pendleton.k12.or.us/event/regular-board-meeting-11/
CATEGORIES:District Wide
END:VEVENT
BEGIN:VEVENT
DTSTART;VALUE=DATE:20250609
DTEND;VALUE=DATE:20250610
DTSTAMP:20260422T004758
CREATED:20240609T184335Z
LAST-MODIFIED:20250609T165900Z
UID:10000916-1749427200-1749513599@wes.pendleton.k12.or.us
SUMMARY:In-Service
DESCRIPTION:No school.  Staff in-service today.
URL:https://wes.pendleton.k12.or.us/event/in-service-4/
CATEGORIES:District Wide
END:VEVENT
BEGIN:VEVENT
DTSTART;VALUE=DATE:20250606
DTEND;VALUE=DATE:20250607
DTSTAMP:20260422T004758
CREATED:20240606T182834Z
LAST-MODIFIED:20250606T164329Z
UID:10000914-1749168000-1749254399@wes.pendleton.k12.or.us
SUMMARY:School Ends
DESCRIPTION:2 hour early release.  Last day of school in the 2024-25 school year.  Enjoy summer!
URL:https://wes.pendleton.k12.or.us/event/school-ends/
CATEGORIES:District Wide
END:VEVENT
BEGIN:VEVENT
DTSTART;VALUE=DATE:20250606
DTEND;VALUE=DATE:20250607
DTSTAMP:20260422T004758
CREATED:20240606T182834Z
LAST-MODIFIED:20250606T164329Z
UID:10000915-1749168000-1749254399@wes.pendleton.k12.or.us
SUMMARY:End of 2nd Semester
DESCRIPTION:
URL:https://wes.pendleton.k12.or.us/event/end-of-2nd-semester-3/
CATEGORIES:District Wide
END:VEVENT
BEGIN:VEVENT
DTSTART;TZID=America/Los_Angeles:20250605T090000
DTEND;TZID=America/Los_Angeles:20250605T140000
DTSTAMP:20260422T004758
CREATED:20240816T032842Z
LAST-MODIFIED:20250605T162839Z
UID:10000979-1749114000-1749132000@wes.pendleton.k12.or.us
SUMMARY:3rd Grade Track Meet
DESCRIPTION:
URL:https://wes.pendleton.k12.or.us/event/3rd-grade-track-meet/
CATEGORIES:District Wide
END:VEVENT
BEGIN:VEVENT
DTSTART;TZID=America/Los_Angeles:20250604T090000
DTEND;TZID=America/Los_Angeles:20250604T140000
DTSTAMP:20260422T004758
CREATED:20240816T032842Z
LAST-MODIFIED:20250604T162835Z
UID:10000978-1749027600-1749045600@wes.pendleton.k12.or.us
SUMMARY:4th Grade Track Meet
DESCRIPTION:
URL:https://wes.pendleton.k12.or.us/event/4th-grade-track-meet/
CATEGORIES:District Wide
END:VEVENT
BEGIN:VEVENT
DTSTART;TZID=America/Los_Angeles:20250603T090000
DTEND;TZID=America/Los_Angeles:20250603T140000
DTSTAMP:20260422T004758
CREATED:20240816T032842Z
LAST-MODIFIED:20250603T162834Z
UID:10000977-1748941200-1748959200@wes.pendleton.k12.or.us
SUMMARY:5th Grade Track Meet
DESCRIPTION:
URL:https://wes.pendleton.k12.or.us/event/5th-grade-track-meet/
CATEGORIES:District Wide
END:VEVENT
BEGIN:VEVENT
DTSTART;TZID=America/Los_Angeles:20250603T080000
DTEND;TZID=America/Los_Angeles:20250603T090000
DTSTAMP:20260422T004758
CREATED:20240730T022957Z
LAST-MODIFIED:20250603T162834Z
UID:10000941-1748937600-1748941200@wes.pendleton.k12.or.us
SUMMARY:Board Work Session
DESCRIPTION:Meets in the District Office boardroom
URL:https://wes.pendleton.k12.or.us/event/board-work-session-33/
CATEGORIES:District Wide
END:VEVENT
BEGIN:VEVENT
DTSTART;VALUE=DATE:20250602
DTEND;VALUE=DATE:20250603
DTSTAMP:20260422T004758
CREATED:20240602T174842Z
LAST-MODIFIED:20250602T162831Z
UID:10000913-1748822400-1748908799@wes.pendleton.k12.or.us
SUMMARY:1 Hour Late Start
DESCRIPTION:
URL:https://wes.pendleton.k12.or.us/event/1-hour-late-start-30/
CATEGORIES:District Wide
END:VEVENT
BEGIN:VEVENT
DTSTART;TZID=America/Los_Angeles:20250527T080000
DTEND;TZID=America/Los_Angeles:20250529T170000
DTSTAMP:20260422T004758
CREATED:20240816T032842Z
LAST-MODIFIED:20250527T155859Z
UID:10000976-1748332800-1748538000@wes.pendleton.k12.or.us
SUMMARY:Art Show
DESCRIPTION:Pendleton School District Art Show at the Pendleton Convention Center. Evening only on 5/27/25.
URL:https://wes.pendleton.k12.or.us/event/art-show-2/
CATEGORIES:District Wide
END:VEVENT
BEGIN:VEVENT
DTSTART;VALUE=DATE:20250526
DTEND;VALUE=DATE:20250527
DTSTAMP:20260422T004758
CREATED:20240526T172835Z
LAST-MODIFIED:20250526T155844Z
UID:10000911-1748217600-1748303999@wes.pendleton.k12.or.us
SUMMARY:No School – Holiday
DESCRIPTION:No school due to Memorial Day observed.
URL:https://wes.pendleton.k12.or.us/event/no-school-holiday-4/
CATEGORIES:District Wide
END:VEVENT
BEGIN:VEVENT
DTSTART;VALUE=DATE:20250519
DTEND;VALUE=DATE:20250520
DTSTAMP:20260422T004758
CREATED:20240519T172928Z
LAST-MODIFIED:20250519T152834Z
UID:10000910-1747612800-1747699199@wes.pendleton.k12.or.us
SUMMARY:1 Hour Late Start
DESCRIPTION:
URL:https://wes.pendleton.k12.or.us/event/1-hour-late-start-29/
CATEGORIES:District Wide
END:VEVENT
BEGIN:VEVENT
DTSTART;TZID=America/Los_Angeles:20250512T180000
DTEND;TZID=America/Los_Angeles:20250512T193000
DTSTAMP:20260422T004758
CREATED:20240730T022957Z
LAST-MODIFIED:20250512T145846Z
UID:10000940-1747072800-1747078200@wes.pendleton.k12.or.us
SUMMARY:Regular Board Meeting
DESCRIPTION:
URL:https://wes.pendleton.k12.or.us/event/regular-board-meeting-10/
CATEGORIES:District Wide
END:VEVENT
BEGIN:VEVENT
DTSTART;VALUE=DATE:20250512
DTEND;VALUE=DATE:20250513
DTSTAMP:20260422T004758
CREATED:20240512T165958Z
LAST-MODIFIED:20250512T145846Z
UID:10000909-1747008000-1747094399@wes.pendleton.k12.or.us
SUMMARY:1 Hour Late Start
DESCRIPTION:
URL:https://wes.pendleton.k12.or.us/event/1-hour-late-start-28/
CATEGORIES:District Wide
END:VEVENT
BEGIN:VEVENT
DTSTART;TZID=America/Los_Angeles:20250506T080000
DTEND;TZID=America/Los_Angeles:20250506T090000
DTSTAMP:20260422T004758
CREATED:20240730T022957Z
LAST-MODIFIED:20250506T145832Z
UID:10000939-1746518400-1746522000@wes.pendleton.k12.or.us
SUMMARY:Board Work Session
DESCRIPTION:Meets in the District Office boardroom
URL:https://wes.pendleton.k12.or.us/event/board-work-session-32/
CATEGORIES:District Wide
END:VEVENT
BEGIN:VEVENT
DTSTART;VALUE=DATE:20250505
DTEND;VALUE=DATE:20250506
DTSTAMP:20260422T004758
CREATED:20240505T161342Z
LAST-MODIFIED:20250505T145857Z
UID:10000908-1746403200-1746489599@wes.pendleton.k12.or.us
SUMMARY:1 Hour Late Start
DESCRIPTION:
URL:https://wes.pendleton.k12.or.us/event/1-hour-late-start-27/
CATEGORIES:District Wide
END:VEVENT
BEGIN:VEVENT
DTSTART;VALUE=DATE:20250428
DTEND;VALUE=DATE:20250429
DTSTAMP:20260422T004758
CREATED:20240428T161359Z
LAST-MODIFIED:20250428T144528Z
UID:10000907-1745798400-1745884799@wes.pendleton.k12.or.us
SUMMARY:1 Hour Late Start
DESCRIPTION:
URL:https://wes.pendleton.k12.or.us/event/1-hour-late-start-26/
CATEGORIES:District Wide
END:VEVENT
BEGIN:VEVENT
DTSTART;VALUE=DATE:20250421
DTEND;VALUE=DATE:20250422
DTSTAMP:20260422T004758
CREATED:20240421T151519Z
LAST-MODIFIED:20250421T144343Z
UID:10000906-1745193600-1745279999@wes.pendleton.k12.or.us
SUMMARY:1 Hour Late Start
DESCRIPTION:
URL:https://wes.pendleton.k12.or.us/event/1-hour-late-start-25/
CATEGORIES:District Wide
END:VEVENT
BEGIN:VEVENT
DTSTART;VALUE=DATE:20250418
DTEND;VALUE=DATE:20250419
DTSTAMP:20260422T004758
CREATED:20240418T145957Z
LAST-MODIFIED:20250418T142835Z
UID:10000905-1744934400-1745020799@wes.pendleton.k12.or.us
SUMMARY:No School
DESCRIPTION:There is no school today.  It was originally held as a possible snow make-up day. Updated 3/17/2025.
URL:https://wes.pendleton.k12.or.us/event/no-school-possible-snow-make-up-day-6/
CATEGORIES:District Wide
END:VEVENT
BEGIN:VEVENT
DTSTART;TZID=America/Los_Angeles:20250414T180000
DTEND;TZID=America/Los_Angeles:20250414T193000
DTSTAMP:20260422T004758
CREATED:20240730T022956Z
LAST-MODIFIED:20250414T142832Z
UID:10000938-1744653600-1744659000@wes.pendleton.k12.or.us
SUMMARY:Regular Board Meeting
DESCRIPTION:
URL:https://wes.pendleton.k12.or.us/event/regular-board-meeting-9/
CATEGORIES:District Wide
END:VEVENT
BEGIN:VEVENT
DTSTART;VALUE=DATE:20250414
DTEND;VALUE=DATE:20250415
DTSTAMP:20260422T004758
CREATED:20240414T144549Z
LAST-MODIFIED:20250414T142832Z
UID:10000904-1744588800-1744675199@wes.pendleton.k12.or.us
SUMMARY:1 Hour Late Start
DESCRIPTION:
URL:https://wes.pendleton.k12.or.us/event/1-hour-late-start-24/
CATEGORIES:District Wide
END:VEVENT
BEGIN:VEVENT
DTSTART;TZID=America/Los_Angeles:20250408T080000
DTEND;TZID=America/Los_Angeles:20250408T090000
DTSTAMP:20260422T004758
CREATED:20240730T022956Z
LAST-MODIFIED:20250408T141334Z
UID:10000937-1744099200-1744102800@wes.pendleton.k12.or.us
SUMMARY:Board Work Session
DESCRIPTION:Meets in the District Office boardroom
URL:https://wes.pendleton.k12.or.us/event/board-work-session-31/
CATEGORIES:District Wide
END:VEVENT
BEGIN:VEVENT
DTSTART;VALUE=DATE:20250407
DTEND;VALUE=DATE:20250408
DTSTAMP:20260422T004758
CREATED:20240407T135845Z
LAST-MODIFIED:20250407T141416Z
UID:10000901-1743984000-1744070399@wes.pendleton.k12.or.us
SUMMARY:1 Hour Late Start
DESCRIPTION:
URL:https://wes.pendleton.k12.or.us/event/1-hour-late-start-23/
CATEGORIES:District Wide
END:VEVENT
BEGIN:VEVENT
DTSTART;VALUE=DATE:20250331
DTEND;VALUE=DATE:20250401
DTSTAMP:20260422T004758
CREATED:20240331T134406Z
LAST-MODIFIED:20250331T135839Z
UID:10000897-1743379200-1743465599@wes.pendleton.k12.or.us
SUMMARY:1 Hour Late Start
DESCRIPTION:
URL:https://wes.pendleton.k12.or.us/event/1-hour-late-start-22/
CATEGORIES:District Wide
END:VEVENT
BEGIN:VEVENT
DTSTART;VALUE=DATE:20250324
DTEND;VALUE=DATE:20250329
DTSTAMP:20260422T004758
CREATED:20240328T134404Z
LAST-MODIFIED:20250324T135938Z
UID:10000896-1742774400-1743206399@wes.pendleton.k12.or.us
SUMMARY:No School – Spring Break
DESCRIPTION:No school the week of spring break – March 24-28\, 2025.
URL:https://wes.pendleton.k12.or.us/event/no-school-spring-break-2/
CATEGORIES:District Wide
END:VEVENT
BEGIN:VEVENT
DTSTART;VALUE=DATE:20250317
DTEND;VALUE=DATE:20250318
DTSTAMP:20260422T004758
CREATED:20240317T133100Z
LAST-MODIFIED:20250317T114327Z
UID:10000892-1742169600-1742255999@wes.pendleton.k12.or.us
SUMMARY:1 Hour Late Start
DESCRIPTION:
URL:https://wes.pendleton.k12.or.us/event/1-hour-late-start-21/
CATEGORIES:District Wide
END:VEVENT
BEGIN:VEVENT
DTSTART;TZID=America/Los_Angeles:20250310T180000
DTEND;TZID=America/Los_Angeles:20250310T193000
DTSTAMP:20260422T004758
CREATED:20250301T112832Z
LAST-MODIFIED:20250310T114402Z
UID:10001012-1741629600-1741635000@wes.pendleton.k12.or.us
SUMMARY:CANCELLED – Regular Board Meeting
DESCRIPTION:The March 10\, 2025 regular board meeting was cancelled at the February 10\, 2025 board meeting due to the superintendent interviews on 3/10/2025.
URL:https://wes.pendleton.k12.or.us/event/cancelled-regular-board-meeting/
CATEGORIES:District Wide
END:VEVENT
BEGIN:VEVENT
DTSTART;TZID=America/Los_Angeles:20250310T180000
DTEND;TZID=America/Los_Angeles:20250310T193000
DTSTAMP:20260422T004758
CREATED:20240730T022956Z
LAST-MODIFIED:20250228T112832Z
UID:10000936-1741629600-1741635000@wes.pendleton.k12.or.us
SUMMARY:Regular Board Meeting
DESCRIPTION:
URL:https://wes.pendleton.k12.or.us/event/regular-board-meeting-8/
CATEGORIES:District Wide
END:VEVENT
BEGIN:VEVENT
DTSTART;VALUE=DATE:20250310
DTEND;VALUE=DATE:20250311
DTSTAMP:20260422T004758
CREATED:20240315T131413Z
LAST-MODIFIED:20250310T114402Z
UID:10000891-1741564800-1741651199@wes.pendleton.k12.or.us
SUMMARY:1 Hour Late Start
DESCRIPTION:
URL:https://wes.pendleton.k12.or.us/event/1-hour-late-start-20/
CATEGORIES:District Wide
END:VEVENT
END:VCALENDAR