BEGIN:VCALENDAR
VERSION:2.0
PRODID:-//Washington Elementary School - ECPv6.13.0//NONSGML v1.0//EN
CALSCALE:GREGORIAN
METHOD:PUBLISH
X-WR-CALNAME:Washington Elementary School
X-ORIGINAL-URL:https://wes.pendleton.k12.or.us
X-WR-CALDESC:Events for Washington Elementary School
REFRESH-INTERVAL;VALUE=DURATION:PT1H
X-Robots-Tag:noindex
X-PUBLISHED-TTL:PT1H
BEGIN:VTIMEZONE
TZID:America/Los_Angeles
BEGIN:DAYLIGHT
TZOFFSETFROM:-0800
TZOFFSETTO:-0700
TZNAME:PDT
DTSTART:20250309T100000
END:DAYLIGHT
BEGIN:STANDARD
TZOFFSETFROM:-0700
TZOFFSETTO:-0800
TZNAME:PST
DTSTART:20251102T090000
END:STANDARD
END:VTIMEZONE
BEGIN:VEVENT
DTSTART;VALUE=DATE:20250820
DTEND;VALUE=DATE:20250821
DTSTAMP:20260422T184801
CREATED:20250606T164328Z
LAST-MODIFIED:20250820T035833Z
UID:10001027-1755648000-1755734399@wes.pendleton.k12.or.us
SUMMARY:In-Service
DESCRIPTION:Certified Staff In-service
URL:https://wes.pendleton.k12.or.us/event/in-service-5/
CATEGORIES:District Wide
END:VEVENT
BEGIN:VEVENT
DTSTART;VALUE=DATE:20250821
DTEND;VALUE=DATE:20250822
DTSTAMP:20260422T184801
CREATED:20250606T164329Z
LAST-MODIFIED:20250821T035915Z
UID:10001028-1755734400-1755820799@wes.pendleton.k12.or.us
SUMMARY:In-Service
DESCRIPTION:Certified Staff In-service
URL:https://wes.pendleton.k12.or.us/event/in-service-6/
CATEGORIES:District Wide
END:VEVENT
BEGIN:VEVENT
DTSTART;VALUE=DATE:20250822
DTEND;VALUE=DATE:20250823
DTSTAMP:20260422T184801
CREATED:20250802T031642Z
LAST-MODIFIED:20250822T035825Z
UID:10001032-1755820800-1755907199@wes.pendleton.k12.or.us
SUMMARY:In-Service
DESCRIPTION:All Staff In-service
URL:https://wes.pendleton.k12.or.us/event/in-service-7/
CATEGORIES:District Wide
END:VEVENT
END:VCALENDAR