BEGIN:VCALENDAR
VERSION:2.0
PRODID:-//Washington Elementary School - ECPv6.13.0//NONSGML v1.0//EN
CALSCALE:GREGORIAN
METHOD:PUBLISH
X-ORIGINAL-URL:https://wes.pendleton.k12.or.us
X-WR-CALDESC:Events for Washington Elementary School
REFRESH-INTERVAL;VALUE=DURATION:PT1H
X-Robots-Tag:noindex
X-PUBLISHED-TTL:PT1H
BEGIN:VTIMEZONE
TZID:America/Los_Angeles
BEGIN:DAYLIGHT
TZOFFSETFROM:-0800
TZOFFSETTO:-0700
TZNAME:PDT
DTSTART:20220313T100000
END:DAYLIGHT
BEGIN:STANDARD
TZOFFSETFROM:-0700
TZOFFSETTO:-0800
TZNAME:PST
DTSTART:20221106T090000
END:STANDARD
BEGIN:DAYLIGHT
TZOFFSETFROM:-0800
TZOFFSETTO:-0700
TZNAME:PDT
DTSTART:20230312T100000
END:DAYLIGHT
BEGIN:STANDARD
TZOFFSETFROM:-0700
TZOFFSETTO:-0800
TZNAME:PST
DTSTART:20231105T090000
END:STANDARD
END:VTIMEZONE
BEGIN:VEVENT
DTSTART;TZID=America/Los_Angeles:20230907T163000
DTEND;TZID=America/Los_Angeles:20230907T183000
DTSTAMP:20260421T200345
CREATED:20230811T061335Z
LAST-MODIFIED:20230907T040023Z
UID:10000800-1694104200-1694111400@wes.pendleton.k12.or.us
SUMMARY:Open House – PELC
DESCRIPTION:The Pendleton Early Learning Center is hosting an Open House from 4:30-6:30
URL:https://wes.pendleton.k12.or.us/event/open-house-pelc/
CATEGORIES:Early Learning Center
END:VEVENT
BEGIN:VEVENT
DTSTART;TZID=America/Los_Angeles:20230907T163000
DTEND;TZID=America/Los_Angeles:20230907T183000
DTSTAMP:20260421T200345
CREATED:20230612T225228Z
LAST-MODIFIED:20230810T061338Z
UID:10000752-1694104200-1694111400@wes.pendleton.k12.or.us
SUMMARY:Open House
DESCRIPTION:PELC is hosting an open house from 4:30-6:30
URL:https://wes.pendleton.k12.or.us/event/open-house-2/
CATEGORIES:Early Learning Center
END:VEVENT
BEGIN:VEVENT
DTSTART;TZID=America/Los_Angeles:20230601T123000
DTEND;TZID=America/Los_Angeles:20230601T140000
DTSTAMP:20260421T200345
CREATED:20230516T192232Z
LAST-MODIFIED:20230601T213215Z
UID:10000673-1685622600-1685628000@wes.pendleton.k12.or.us
SUMMARY:Field Day at PELC
DESCRIPTION:Field Day from 12:30-2 pm
URL:https://wes.pendleton.k12.or.us/event/field-day-at-pelc/
CATEGORIES:Early Learning Center
END:VEVENT
BEGIN:VEVENT
DTSTART;VALUE=DATE:20230526
DTEND;VALUE=DATE:20230527
DTSTAMP:20260421T200345
CREATED:20230516T192232Z
LAST-MODIFIED:20230525T202930Z
UID:10000668-1685059200-1685145599@wes.pendleton.k12.or.us
SUMMARY:Fire Dept Visits PELC
DESCRIPTION:The Pendleton Fire Department visits the PELC.
URL:https://wes.pendleton.k12.or.us/event/fire-dept-visits-pelc/
CATEGORIES:Early Learning Center
END:VEVENT
BEGIN:VEVENT
DTSTART;TZID=America/Los_Angeles:20230524T093000
DTEND;TZID=America/Los_Angeles:20230524T140000
DTSTAMP:20260421T200345
CREATED:20230516T192231Z
LAST-MODIFIED:20230524T203047Z
UID:10000664-1684920600-1684936800@wes.pendleton.k12.or.us
SUMMARY:PELC Spring Concerts
DESCRIPTION:Spring Concerts in the PELC Gymnasium \n9:30am – Otters/Foxes\n10:30am – Coyotes/Bears\n11:45am – Bees/Beavers/Raccoons\n1:30pm – Owls/Squirrels/Deer \nPlease enter the gym through the double doors on 13th Street \n 
URL:https://wes.pendleton.k12.or.us/event/pelc-spring-concerts/
CATEGORIES:Early Learning Center
END:VEVENT
BEGIN:VEVENT
DTSTART;TZID=America/Los_Angeles:20230310T073000
DTEND;TZID=America/Los_Angeles:20230310T153000
DTSTAMP:20260421T200345
CREATED:20230224T082106Z
LAST-MODIFIED:20230310T102322Z
UID:10000648-1678433400-1678462200@wes.pendleton.k12.or.us
SUMMARY:Kindergarten Registration
DESCRIPTION:
URL:https://wes.pendleton.k12.or.us/event/kindergarten-registration-5/
CATEGORIES:Early Learning Center
END:VEVENT
BEGIN:VEVENT
DTSTART;TZID=America/Los_Angeles:20230309T150000
DTEND;TZID=America/Los_Angeles:20230309T200000
DTSTAMP:20260421T200345
CREATED:20230224T082106Z
LAST-MODIFIED:20230309T101651Z
UID:10000646-1678374000-1678392000@wes.pendleton.k12.or.us
SUMMARY:Kindergarten Registration
DESCRIPTION:
URL:https://wes.pendleton.k12.or.us/event/kindergarten-registration-4/
CATEGORIES:Early Learning Center
END:VEVENT
BEGIN:VEVENT
DTSTART;TZID=America/Los_Angeles:20230307T150000
DTEND;TZID=America/Los_Angeles:20230307T200000
DTSTAMP:20260421T200345
CREATED:20230224T082106Z
LAST-MODIFIED:20230307T094613Z
UID:10000644-1678201200-1678219200@wes.pendleton.k12.or.us
SUMMARY:Kindergarten Registration
DESCRIPTION:
URL:https://wes.pendleton.k12.or.us/event/kindergarten-registration-3/
CATEGORIES:Early Learning Center
END:VEVENT
BEGIN:VEVENT
DTSTART;TZID=America/Los_Angeles:20221208T093000
DTEND;TZID=America/Los_Angeles:20221208T140000
DTSTAMP:20260421T200345
CREATED:20221206T210141Z
LAST-MODIFIED:20221208T211406Z
UID:10000548-1670491800-1670508000@wes.pendleton.k12.or.us
SUMMARY:PELC Winter Programs
DESCRIPTION:The PELC winter concerts will be in the gymnasium at the following times: \n9:30 am: Wyss\, Watkins\, Gunter\n11:45 am: Bostwick\, Nelson\, Zimmerman\n1:30 pm: Leonard\, Johnson\, Lambert\, Lewis
URL:https://wes.pendleton.k12.or.us/event/pelc-winter-programs/
CATEGORIES:Early Learning Center
END:VEVENT
BEGIN:VEVENT
DTSTART;TZID=America/Los_Angeles:20220503T160000
DTEND;TZID=America/Los_Angeles:20220503T190000
DTSTAMP:20260421T200345
CREATED:20220329T070459Z
LAST-MODIFIED:20220503T120854Z
UID:10000551-1651593600-1651604400@wes.pendleton.k12.or.us
SUMMARY:Kindergarten Registration
DESCRIPTION:
URL:https://wes.pendleton.k12.or.us/event/kindergarten-registration-2/
CATEGORIES:Early Learning Center
END:VEVENT
BEGIN:VEVENT
DTSTART;TZID=America/Los_Angeles:20220414T160000
DTEND;TZID=America/Los_Angeles:20220414T190000
DTSTAMP:20260421T200345
CREATED:20220329T070459Z
LAST-MODIFIED:20220414T084546Z
UID:10000550-1649952000-1649962800@wes.pendleton.k12.or.us
SUMMARY:Kindergarten Registration
DESCRIPTION:
URL:https://wes.pendleton.k12.or.us/event/kindergarten-registration/
CATEGORIES:Early Learning Center
END:VEVENT
END:VCALENDAR