BEGIN:VCALENDAR
VERSION:2.0
PRODID:-//Washington Elementary School - ECPv6.13.0//NONSGML v1.0//EN
CALSCALE:GREGORIAN
METHOD:PUBLISH
X-WR-CALNAME:Washington Elementary School
X-ORIGINAL-URL:https://wes.pendleton.k12.or.us
X-WR-CALDESC:Events for Washington Elementary School
REFRESH-INTERVAL;VALUE=DURATION:PT1H
X-Robots-Tag:noindex
X-PUBLISHED-TTL:PT1H
BEGIN:VTIMEZONE
TZID:America/Los_Angeles
BEGIN:DAYLIGHT
TZOFFSETFROM:-0800
TZOFFSETTO:-0700
TZNAME:PDT
DTSTART:20200308T100000
END:DAYLIGHT
BEGIN:STANDARD
TZOFFSETFROM:-0700
TZOFFSETTO:-0800
TZNAME:PST
DTSTART:20201101T090000
END:STANDARD
BEGIN:DAYLIGHT
TZOFFSETFROM:-0800
TZOFFSETTO:-0700
TZNAME:PDT
DTSTART:20210314T100000
END:DAYLIGHT
BEGIN:STANDARD
TZOFFSETFROM:-0700
TZOFFSETTO:-0800
TZNAME:PST
DTSTART:20211107T090000
END:STANDARD
BEGIN:DAYLIGHT
TZOFFSETFROM:-0800
TZOFFSETTO:-0700
TZNAME:PDT
DTSTART:20220313T100000
END:DAYLIGHT
BEGIN:STANDARD
TZOFFSETFROM:-0700
TZOFFSETTO:-0800
TZNAME:PST
DTSTART:20221106T090000
END:STANDARD
END:VTIMEZONE
BEGIN:VEVENT
DTSTART;TZID=America/Los_Angeles:20221114T080000
DTEND;TZID=America/Los_Angeles:20221118T170000
DTSTAMP:20260422T004608
CREATED:20221114T191552Z
LAST-MODIFIED:20221114T191552Z
UID:10000539-1668412800-1668790800@wes.pendleton.k12.or.us
SUMMARY:Indigenous Dress Week!
DESCRIPTION:Monday – Bust out your beadwork!\nTuesday – Rock your mocs!\nWednesday – Wear your wápša (braid) day\nThursday – Orange Day to honor our children\nFriday – Ribbon Work Day
URL:https://wes.pendleton.k12.or.us/event/indigenous-dress-week/
CATEGORIES:Washington Elementary School
END:VEVENT
BEGIN:VEVENT
DTSTART;TZID=America/Los_Angeles:20221005T170000
DTEND;TZID=America/Los_Angeles:20221005T200000
DTSTAMP:20260422T004608
CREATED:20220926T165641Z
LAST-MODIFIED:20220926T165819Z
UID:10000628-1664989200-1665000000@wes.pendleton.k12.or.us
SUMMARY:Parent Club Sisters Cafe Night Out!
DESCRIPTION:Dine in or Take Out between 5 – 8 pm on Oct. 5\, 2022 at Sister’s Cafe in Pendleton\, Oregon.  A percentage of the proceeds from all orders will be donated to the Washington Elementary Parent Club.
URL:https://wes.pendleton.k12.or.us/event/parent-club-sisters-cafe-night-out/
CATEGORIES:Washington Elementary School
END:VEVENT
BEGIN:VEVENT
DTSTART;VALUE=DATE:20220923
DTEND;VALUE=DATE:20220924
DTSTAMP:20260422T004608
CREATED:20220901T214835Z
LAST-MODIFIED:20220917T151900Z
UID:10000619-1663891200-1663977599@wes.pendleton.k12.or.us
SUMMARY:Fall Picture Day
DESCRIPTION:Picture Day is this Friday\, Sept 23rd.  Packets will be coming home this week.  Information to order online is here:  Fall Photo Flyer
URL:https://wes.pendleton.k12.or.us/event/fall-picture-day/
CATEGORIES:Washington Elementary School
END:VEVENT
BEGIN:VEVENT
DTSTART;TZID=America/Los_Angeles:20220920T190000
DTEND;TZID=America/Los_Angeles:20220920T190000
DTSTAMP:20260422T004608
CREATED:20220901T212835Z
LAST-MODIFIED:20220901T212835Z
UID:10000618-1663700400-1663700400@wes.pendleton.k12.or.us
SUMMARY:Washington Parent Club Meeting
DESCRIPTION:Join the Washington Parent Club in the Washington Elementary Cafeteria September 20th at 7pm.
URL:https://wes.pendleton.k12.or.us/event/washington-parent-club-meeting/
CATEGORIES:Washington Elementary School
END:VEVENT
BEGIN:VEVENT
DTSTART;TZID=America/Los_Angeles:20220906T080000
DTEND;TZID=America/Los_Angeles:20220909T170000
DTSTAMP:20260422T004608
CREATED:20220901T190803Z
LAST-MODIFIED:20220901T211816Z
UID:10000617-1662451200-1662742800@wes.pendleton.k12.or.us
SUMMARY:Round Up Spirit Week
DESCRIPTION:To celebrate the 111th Pendleton Round Up we will be having spirit week September 6th to September 9th! \nMonday\, Sept 5th is NO SCHOOL for Labor Day \nTuesday\, Sept 6th is Happy Canyon Day – wear BROWN and TURQUIOSE \nWednesday\, Sept 7th is Round Up Day – wear RED \nThursday\, Sept 8th is Tough Enough to Wear Pink Day – wear PINK \nFriday\, Sept 9th is Westward Ho Day – wear western attire\, our Native American students are welcome to wear Regalia \nThe Pendleton Round Up Queen and Court and the Happy Canyon Princesses will be making their yearly visit to the Washington on Thursday\, Sept 8th!  We can’t wait to visit with them!
URL:https://wes.pendleton.k12.or.us/event/round-up-spirit-week/
CATEGORIES:Washington Elementary School
END:VEVENT
BEGIN:VEVENT
DTSTART;TZID=America/Los_Angeles:20220825T163000
DTEND;TZID=America/Los_Angeles:20220825T183000
DTSTAMP:20260422T004608
CREATED:20220818T151259Z
LAST-MODIFIED:20220818T151259Z
UID:10000616-1661445000-1661452200@wes.pendleton.k12.or.us
SUMMARY:Back to School Open House
DESCRIPTION:
URL:https://wes.pendleton.k12.or.us/event/back-to-school-open-house/
CATEGORIES:Washington Elementary School
END:VEVENT
BEGIN:VEVENT
DTSTART;VALUE=DATE:20220317
DTEND;VALUE=DATE:20220318
DTSTAMP:20260422T004608
CREATED:20220224T183217Z
LAST-MODIFIED:20220224T183327Z
UID:10000549-1647475200-1647561599@wes.pendleton.k12.or.us
SUMMARY:Books\, Baskets and BINGO!
DESCRIPTION:
URL:https://wes.pendleton.k12.or.us/event/books-baskets-and-bingo/
LOCATION:ONLINE\, Pendleton\, OR\, 97801\, United States
CATEGORIES:Washington Elementary School
END:VEVENT
BEGIN:VEVENT
DTSTART;TZID=America/Los_Angeles:20211019T190000
DTEND;TZID=America/Los_Angeles:20211019T200000
DTSTAMP:20260422T004608
CREATED:20211013T180440Z
LAST-MODIFIED:20211013T180440Z
UID:10000529-1634670000-1634673600@wes.pendleton.k12.or.us
SUMMARY:Parent's Club Meeting
DESCRIPTION:Parent’s Club will meet in the cafeteria at 7:00 pm
URL:https://wes.pendleton.k12.or.us/event/parents-club-meeting/
CATEGORIES:Washington Elementary School
END:VEVENT
BEGIN:VEVENT
DTSTART;TZID=America/Los_Angeles:20201026T080000
DTEND;TZID=America/Los_Angeles:20201026T170000
DTSTAMP:20260422T004608
CREATED:20201013T152412Z
LAST-MODIFIED:20201013T154228Z
UID:10000441-1603699200-1603731600@wes.pendleton.k12.or.us
SUMMARY:Pajama Day
DESCRIPTION:Monday\, October 26th
URL:https://wes.pendleton.k12.or.us/event/pajama-day/
CATEGORIES:Washington Elementary School
END:VEVENT
BEGIN:VEVENT
DTSTART;TZID=America/Los_Angeles:20200901T074500
DTEND;TZID=America/Los_Angeles:20200903T153000
DTSTAMP:20260422T004608
CREATED:20200814T160748Z
LAST-MODIFIED:20200814T160748Z
UID:10000426-1598946300-1599147000@wes.pendleton.k12.or.us
SUMMARY:Pick up Materials for Distance Learning
DESCRIPTION:We will have a drive-through pick up of student materials for Distance Learning.
URL:https://wes.pendleton.k12.or.us/event/pick-up-materials-for-distance-learning/
CATEGORIES:Washington Elementary School
END:VEVENT
BEGIN:VEVENT
DTSTART;TZID=America/Los_Angeles:20200604T123000
DTEND;TZID=America/Los_Angeles:20200604T143000
DTSTAMP:20260422T004608
CREATED:20200528T204320Z
LAST-MODIFIED:20200528T204320Z
UID:10000401-1591273800-1591281000@wes.pendleton.k12.or.us
SUMMARY:Summer send off parade
DESCRIPTION:
URL:https://wes.pendleton.k12.or.us/event/summer-send-off-parade/
CATEGORIES:Washington Elementary School
END:VEVENT
END:VCALENDAR