BEGIN:VCALENDAR
VERSION:2.0
PRODID:-//Washington Elementary School - ECPv6.13.0//NONSGML v1.0//EN
CALSCALE:GREGORIAN
METHOD:PUBLISH
X-ORIGINAL-URL:https://wes.pendleton.k12.or.us
X-WR-CALDESC:Events for Washington Elementary School
REFRESH-INTERVAL;VALUE=DURATION:PT1H
X-Robots-Tag:noindex
X-PUBLISHED-TTL:PT1H
BEGIN:VTIMEZONE
TZID:America/Los_Angeles
BEGIN:DAYLIGHT
TZOFFSETFROM:-0800
TZOFFSETTO:-0700
TZNAME:PDT
DTSTART:20240310T100000
END:DAYLIGHT
BEGIN:STANDARD
TZOFFSETFROM:-0700
TZOFFSETTO:-0800
TZNAME:PST
DTSTART:20241103T090000
END:STANDARD
END:VTIMEZONE
BEGIN:VEVENT
DTSTART;VALUE=DATE:20240205
DTEND;VALUE=DATE:20240206
DTSTAMP:20260423T110459
CREATED:20230608T221546Z
LAST-MODIFIED:20240205T120018Z
UID:10000731-1707091200-1707177599@wes.pendleton.k12.or.us
SUMMARY:Late Start
DESCRIPTION:
URL:https://wes.pendleton.k12.or.us/event/late-start-47/
CATEGORIES:District Wide
END:VEVENT
BEGIN:VEVENT
DTSTART;TZID=America/Los_Angeles:20240206T080000
DTEND;TZID=America/Los_Angeles:20240206T090000
DTSTAMP:20260423T110459
CREATED:20230725T050806Z
LAST-MODIFIED:20240206T115859Z
UID:10000786-1707206400-1707210000@wes.pendleton.k12.or.us
SUMMARY:Board Work Session
DESCRIPTION:Held in the District Office Boardroom.\n8:00-9:00 am
URL:https://wes.pendleton.k12.or.us/event/board-work-session-18/
CATEGORIES:District Wide
END:VEVENT
BEGIN:VEVENT
DTSTART;TZID=America/Los_Angeles:20240207T180000
DTEND;TZID=America/Los_Angeles:20240207T190000
DTSTAMP:20260423T110459
CREATED:20230908T035831Z
LAST-MODIFIED:20240207T115844Z
UID:10000806-1707328800-1707332400@wes.pendleton.k12.or.us
SUMMARY:Parents Club
DESCRIPTION:Sherwood Parents Club meets the first Wednesday of every month at 6:00 p.m. in the Sherwood Elementary cafeteria. Free childcare is provided to those in attendance. We hope to see you there!
URL:https://wes.pendleton.k12.or.us/event/parents-club-5/
CATEGORIES:Sherwood Elementary School
END:VEVENT
BEGIN:VEVENT
DTSTART;TZID=America/Los_Angeles:20240210T070000
DTEND;TZID=America/Los_Angeles:20240210T170000
DTSTAMP:20260423T110459
CREATED:20230608T221546Z
LAST-MODIFIED:20240210T122919Z
UID:10000732-1707548400-1707584400@wes.pendleton.k12.or.us
SUMMARY:FTC Robotics
DESCRIPTION:Final Meet – PHS Warberg Gym from 7 am – 5 pm
URL:https://wes.pendleton.k12.or.us/event/ftc-robotics-5/
CATEGORIES:Pendleton High School,Sunridge Middle School
END:VEVENT
BEGIN:VEVENT
DTSTART;VALUE=DATE:20240212
DTEND;VALUE=DATE:20240213
DTSTAMP:20260423T110459
CREATED:20230608T221546Z
LAST-MODIFIED:20240212T122841Z
UID:10000733-1707696000-1707782399@wes.pendleton.k12.or.us
SUMMARY:Late Start
DESCRIPTION:
URL:https://wes.pendleton.k12.or.us/event/late-start-48/
CATEGORIES:District Wide
END:VEVENT
BEGIN:VEVENT
DTSTART;TZID=America/Los_Angeles:20240212T180000
DTEND;TZID=America/Los_Angeles:20240212T190000
DTSTAMP:20260423T110459
CREATED:20230725T050807Z
LAST-MODIFIED:20240212T122841Z
UID:10000787-1707760800-1707764400@wes.pendleton.k12.or.us
SUMMARY:Board Meeting
DESCRIPTION:Held in the District Office Boardroom.\n6:00-7:00 pm
URL:https://wes.pendleton.k12.or.us/event/board-meeting-31/
CATEGORIES:District Wide
END:VEVENT
BEGIN:VEVENT
DTSTART;TZID=America/Los_Angeles:20240217T101500
DTEND;TZID=America/Los_Angeles:20240217T111500
DTSTAMP:20260423T110459
CREATED:20240206T115856Z
LAST-MODIFIED:20240217T122856Z
UID:10000830-1708164900-1708168500@wes.pendleton.k12.or.us
SUMMARY:Kindergarten Readers Club
DESCRIPTION:Kindergarten Readers Club meets at the Pendleton Public Library at 10:15 am on 2/17/2024.
URL:https://wes.pendleton.k12.or.us/event/kindergarten-readers-club/
CATEGORIES:Early Learning Center
END:VEVENT
BEGIN:VEVENT
DTSTART;VALUE=DATE:20240219
DTEND;VALUE=DATE:20240220
DTSTAMP:20260423T110459
CREATED:20230608T221546Z
LAST-MODIFIED:20240219T123121Z
UID:10000734-1708300800-1708387199@wes.pendleton.k12.or.us
SUMMARY:No School
DESCRIPTION:
URL:https://wes.pendleton.k12.or.us/event/no-school-5/
CATEGORIES:District Wide
END:VEVENT
BEGIN:VEVENT
DTSTART;VALUE=DATE:20240222
DTEND;VALUE=DATE:20240223
DTSTAMP:20260423T110459
CREATED:20240206T115857Z
LAST-MODIFIED:20240222T123017Z
UID:10000831-1708560000-1708646399@wes.pendleton.k12.or.us
SUMMARY:Bus Driver Appreciation Day
DESCRIPTION:The PELC is honoring bus drivers on Thursday\, February 22\, 2024.
URL:https://wes.pendleton.k12.or.us/event/bus-driver-appreciation-day/
CATEGORIES:Early Learning Center
END:VEVENT
BEGIN:VEVENT
DTSTART;TZID=America/Los_Angeles:20240222T163000
DTEND;TZID=America/Los_Angeles:20240222T183000
DTSTAMP:20260423T110459
CREATED:20240206T115857Z
LAST-MODIFIED:20240222T123017Z
UID:10000832-1708619400-1708626600@wes.pendleton.k12.or.us
SUMMARY:PELC Family Night
DESCRIPTION:The PELC Family Night is Thursday\, February 22\, 2024 from 4:30-6:30 pm.  Bingo & Books!  Free dinner for the family!
URL:https://wes.pendleton.k12.or.us/event/pelc-family-night/
CATEGORIES:Early Learning Center
END:VEVENT
BEGIN:VEVENT
DTSTART;VALUE=DATE:20240223
DTEND;VALUE=DATE:20240224
DTSTAMP:20260423T110459
CREATED:20240206T115857Z
LAST-MODIFIED:20240223T122832Z
UID:10000833-1708646400-1708732799@wes.pendleton.k12.or.us
SUMMARY:PELC 100th Day of School Celebration
DESCRIPTION:PELC students are celebrating 100 days of school on Friday\, February 23\, 2024.
URL:https://wes.pendleton.k12.or.us/event/pelc-100th-day-of-school-celebration/
CATEGORIES:Early Learning Center
END:VEVENT
BEGIN:VEVENT
DTSTART;VALUE=DATE:20240226
DTEND;VALUE=DATE:20240227
DTSTAMP:20260423T110459
CREATED:20230608T221546Z
LAST-MODIFIED:20240226T124330Z
UID:10000735-1708905600-1708991999@wes.pendleton.k12.or.us
SUMMARY:Late Start
DESCRIPTION:
URL:https://wes.pendleton.k12.or.us/event/late-start-49/
CATEGORIES:District Wide
END:VEVENT
BEGIN:VEVENT
DTSTART;TZID=America/Los_Angeles:20240228T170000
DTEND;TZID=America/Los_Angeles:20240228T193000
DTSTAMP:20260423T110459
CREATED:20240223T122831Z
LAST-MODIFIED:20240228T124424Z
UID:10000836-1709139600-1709148600@wes.pendleton.k12.or.us
SUMMARY:Forecasting Family Night
DESCRIPTION:Forecasting Family Night at PHS for grades 8-11. \nThe purpose of the event is to learn about academic opportunities and student activities available at PHS for students who will attend in the 2024-25 school year.  Please call Kimi at 541-966-3804 if you have questions.
URL:https://wes.pendleton.k12.or.us/event/forecasting-family-night/
CATEGORIES:Pendleton High School
END:VEVENT
END:VCALENDAR