BEGIN:VCALENDAR
VERSION:2.0
PRODID:-//Washington Elementary School - ECPv6.13.0//NONSGML v1.0//EN
CALSCALE:GREGORIAN
METHOD:PUBLISH
X-WR-CALNAME:Washington Elementary School
X-ORIGINAL-URL:https://wes.pendleton.k12.or.us
X-WR-CALDESC:Events for Washington Elementary School
REFRESH-INTERVAL;VALUE=DURATION:PT1H
X-Robots-Tag:noindex
X-PUBLISHED-TTL:PT1H
BEGIN:VTIMEZONE
TZID:America/Los_Angeles
BEGIN:DAYLIGHT
TZOFFSETFROM:-0800
TZOFFSETTO:-0700
TZNAME:PDT
DTSTART:20240310T100000
END:DAYLIGHT
BEGIN:STANDARD
TZOFFSETFROM:-0700
TZOFFSETTO:-0800
TZNAME:PST
DTSTART:20241103T090000
END:STANDARD
END:VTIMEZONE
BEGIN:VEVENT
DTSTART;TZID=America/Los_Angeles:20241102T160000
DTEND;TZID=America/Los_Angeles:20241102T173000
DTSTAMP:20260422T182921
CREATED:20241031T074339Z
LAST-MODIFIED:20241102T074514Z
UID:10000993-1730563200-1730568600@wes.pendleton.k12.or.us
SUMMARY:Volleyball Playoff Game
DESCRIPTION:Volleyball Playoff Game on Saturday\, November 2nd at 4:00 p.m. in Warberg Court\n\n\nPHS Lady Bucks vs Estacada\n\n\nAdmission is:\n$10 for adults. No Buck Booster passes will be accepted.\nOnly passes accepted will be the OSAA Media Card and the Gold Card\n$6 for Students. No ASB cards will be accepted.
URL:https://wes.pendleton.k12.or.us/event/volleyball-playoff-game/
CATEGORIES:Pendleton High School
END:VEVENT
BEGIN:VEVENT
DTSTART;VALUE=DATE:20241104
DTEND;VALUE=DATE:20241105
DTSTAMP:20260422T182921
CREATED:20240315T131411Z
LAST-MODIFIED:20241104T074347Z
UID:10000867-1730678400-1730764799@wes.pendleton.k12.or.us
SUMMARY:1 Hour Late Start
DESCRIPTION:
URL:https://wes.pendleton.k12.or.us/event/1-hour-late-start-8/
CATEGORIES:District Wide
END:VEVENT
BEGIN:VEVENT
DTSTART;TZID=America/Los_Angeles:20241105T080000
DTEND;TZID=America/Los_Angeles:20241105T090000
DTSTAMP:20260422T182921
CREATED:20240730T022955Z
LAST-MODIFIED:20241105T074339Z
UID:10000927-1730793600-1730797200@wes.pendleton.k12.or.us
SUMMARY:Board Work Session
DESCRIPTION:Meets in the District Office boardroom
URL:https://wes.pendleton.k12.or.us/event/board-work-session-26/
CATEGORIES:District Wide
END:VEVENT
BEGIN:VEVENT
DTSTART;TZID=America/Los_Angeles:20241108T180000
DTEND;TZID=America/Los_Angeles:20241108T203000
DTSTAMP:20260422T182921
CREATED:20241106T074422Z
LAST-MODIFIED:20241108T074347Z
UID:10000995-1731088800-1731097800@wes.pendleton.k12.or.us
SUMMARY:Football Playoff Game
DESCRIPTION:Football Varsity Playoff Game at 6:00 pm at the Round-Up Stadium.  PHS vs. Mazama \nBlue Mountain Community College will provide a live broadcast of the game using this link: http://www.youtube.com/bmccathletics
URL:https://wes.pendleton.k12.or.us/event/football-playoff-game/
CATEGORIES:Pendleton High School
END:VEVENT
BEGIN:VEVENT
DTSTART;VALUE=DATE:20241111
DTEND;VALUE=DATE:20241112
DTSTAMP:20260422T182921
CREATED:20240315T131411Z
LAST-MODIFIED:20241111T074435Z
UID:10000868-1731283200-1731369599@wes.pendleton.k12.or.us
SUMMARY:No School – Holiday
DESCRIPTION:No school due to Veterans Day Observance.
URL:https://wes.pendleton.k12.or.us/event/no-school-holiday-2/
CATEGORIES:District Wide
END:VEVENT
BEGIN:VEVENT
DTSTART;TZID=America/Los_Angeles:20241113T080000
DTEND;TZID=America/Los_Angeles:20241113T143000
DTSTAMP:20260422T182921
CREATED:20240816T032839Z
LAST-MODIFIED:20241113T075941Z
UID:10000965-1731484800-1731508200@wes.pendleton.k12.or.us
SUMMARY:Picture Retakes
DESCRIPTION:McKay Elementary picture retakes
URL:https://wes.pendleton.k12.or.us/event/picture-retakes-2/
CATEGORIES:McKay Elementary School
END:VEVENT
BEGIN:VEVENT
DTSTART;VALUE=DATE:20241118
DTEND;VALUE=DATE:20241119
DTSTAMP:20260422T182921
CREATED:20240315T131411Z
LAST-MODIFIED:20241118T081347Z
UID:10000869-1731888000-1731974399@wes.pendleton.k12.or.us
SUMMARY:1 Hour Late Start
DESCRIPTION:
URL:https://wes.pendleton.k12.or.us/event/1-hour-late-start-9/
CATEGORIES:District Wide
END:VEVENT
BEGIN:VEVENT
DTSTART;TZID=America/Los_Angeles:20241118T073000
DTEND;TZID=America/Los_Angeles:20241118T160000
DTSTAMP:20260422T182921
CREATED:20241003T055939Z
LAST-MODIFIED:20241118T081347Z
UID:10000984-1731915000-1731945600@wes.pendleton.k12.or.us
SUMMARY:Immunization Clinic
DESCRIPTION:The Pendleton School Based Health Center is offering immunization clinics and well child visits.  Available to all students of the Pendleton SD with no cost to families.  Location is at the PELC from 7:30-4:00.  Call for an appointment at 541-966-3857.  Oct 14\, Nov 18\, Dec 9\, Jan 27.
URL:https://wes.pendleton.k12.or.us/event/immunization-clinic-2/
CATEGORIES:District Wide
END:VEVENT
BEGIN:VEVENT
DTSTART;TZID=America/Los_Angeles:20241118T180000
DTEND;TZID=America/Los_Angeles:20241118T193000
DTSTAMP:20260422T182921
CREATED:20240730T022955Z
LAST-MODIFIED:20241113T075941Z
UID:10000928-1731952800-1731958200@wes.pendleton.k12.or.us
SUMMARY:Regular Board Meeting
DESCRIPTION:
URL:https://wes.pendleton.k12.or.us/event/regular-board-meeting-4/
CATEGORIES:District Wide
END:VEVENT
BEGIN:VEVENT
DTSTART;TZID=America/Los_Angeles:20241118T180000
DTEND;TZID=America/Los_Angeles:20241118T193000
DTSTAMP:20260422T182921
CREATED:20241114T080257Z
LAST-MODIFIED:20241118T081347Z
UID:10000996-1731952800-1731958200@wes.pendleton.k12.or.us
SUMMARY:Regular Board Meeting
DESCRIPTION:The November regular board meeting will be held at the Nixyaawii Education Center.
URL:https://wes.pendleton.k12.or.us/event/regular-board-meeting-13/
CATEGORIES:District Wide
END:VEVENT
BEGIN:VEVENT
DTSTART;TZID=America/Los_Angeles:20241119T160000
DTEND;TZID=America/Los_Angeles:20241119T200000
DTSTAMP:20260422T182921
CREATED:20241025T065954Z
LAST-MODIFIED:20241119T081339Z
UID:10000988-1732032000-1732046400@wes.pendleton.k12.or.us
SUMMARY:FTC Robotics
DESCRIPTION:FTC Robotics Competitions in PHS Gold Gym from 4-8 pm.\nMeet 0 – Nov 19\nMeet 1 – Dec 19\nMeet 2 – Jan 22\nMeet 3 – Feb 6\nFinals – Feb 22 (7 am-5 pm)
URL:https://wes.pendleton.k12.or.us/event/ftc-robotics-6/
CATEGORIES:District Wide
END:VEVENT
BEGIN:VEVENT
DTSTART;TZID=America/Los_Angeles:20241121T163000
DTEND;TZID=America/Los_Angeles:20241121T183000
DTSTAMP:20260422T182921
CREATED:20241102T074510Z
LAST-MODIFIED:20241121T081350Z
UID:10000994-1732206600-1732213800@wes.pendleton.k12.or.us
SUMMARY:Family Night
DESCRIPTION:Fall Basket Raffle and Family Night at the PELC with a free dinner.
URL:https://wes.pendleton.k12.or.us/event/family-night-7/
CATEGORIES:Early Learning Center
END:VEVENT
BEGIN:VEVENT
DTSTART;VALUE=DATE:20241125
DTEND;VALUE=DATE:20241126
DTSTAMP:20260422T182921
CREATED:20240315T131412Z
LAST-MODIFIED:20241125T083005Z
UID:10000870-1732492800-1732579199@wes.pendleton.k12.or.us
SUMMARY:1 Hour Late Start
DESCRIPTION:
URL:https://wes.pendleton.k12.or.us/event/1-hour-late-start-10/
CATEGORIES:District Wide
END:VEVENT
BEGIN:VEVENT
DTSTART;TZID=America/Los_Angeles:20241125T160000
DTEND;TZID=America/Los_Angeles:20241125T200000
DTSTAMP:20260422T182921
CREATED:20240315T131412Z
LAST-MODIFIED:20241125T083005Z
UID:10000871-1732550400-1732564800@wes.pendleton.k12.or.us
SUMMARY:Evening Conferences
DESCRIPTION:Evening Parent/Teacher conferences. \nK-5:  4-8 pm\n6-8: 4-8 pm\n9-12: 4-8 pm (Commons\, in-person)
URL:https://wes.pendleton.k12.or.us/event/conferences/
CATEGORIES:District Wide
END:VEVENT
BEGIN:VEVENT
DTSTART;TZID=America/Los_Angeles:20241126T073000
DTEND;TZID=America/Los_Angeles:20241126T190000
DTSTAMP:20260422T182921
CREATED:20240315T131412Z
LAST-MODIFIED:20241126T082830Z
UID:10000872-1732606200-1732647600@wes.pendleton.k12.or.us
SUMMARY:No School – Conferences
DESCRIPTION:Day and evening conferences with parents and teachers. \nK-5: 7:30-7 pm\n6-8: 7:30-1 pm & 2-7 pm\n9-12: 7:30-1 pm & 2-4 pm (online or in the classroom) 4-7 pm (Commons\, in-person)
URL:https://wes.pendleton.k12.or.us/event/no-school-conferences/
CATEGORIES:District Wide
END:VEVENT
BEGIN:VEVENT
DTSTART;VALUE=DATE:20241127
DTEND;VALUE=DATE:20241130
DTSTAMP:20260422T182921
CREATED:20240315T131412Z
LAST-MODIFIED:20241127T082844Z
UID:10000873-1732665600-1732924799@wes.pendleton.k12.or.us
SUMMARY:No School – Thanksgiving Break
DESCRIPTION:
URL:https://wes.pendleton.k12.or.us/event/no-school-thanksgiving-break-2/
CATEGORIES:District Wide
END:VEVENT
END:VCALENDAR