BEGIN:VCALENDAR
VERSION:2.0
PRODID:-//Washington Elementary School - ECPv6.13.0//NONSGML v1.0//EN
CALSCALE:GREGORIAN
METHOD:PUBLISH
X-ORIGINAL-URL:https://wes.pendleton.k12.or.us
X-WR-CALDESC:Events for Washington Elementary School
REFRESH-INTERVAL;VALUE=DURATION:PT1H
X-Robots-Tag:noindex
X-PUBLISHED-TTL:PT1H
BEGIN:VTIMEZONE
TZID:America/Los_Angeles
BEGIN:DAYLIGHT
TZOFFSETFROM:-0800
TZOFFSETTO:-0700
TZNAME:PDT
DTSTART:20250309T100000
END:DAYLIGHT
BEGIN:STANDARD
TZOFFSETFROM:-0700
TZOFFSETTO:-0800
TZNAME:PST
DTSTART:20251102T090000
END:STANDARD
END:VTIMEZONE
BEGIN:VEVENT
DTSTART;VALUE=DATE:20250505
DTEND;VALUE=DATE:20250506
DTSTAMP:20260422T071902
CREATED:20240505T161342Z
LAST-MODIFIED:20250505T145857Z
UID:10000908-1746403200-1746489599@wes.pendleton.k12.or.us
SUMMARY:1 Hour Late Start
DESCRIPTION:
URL:https://wes.pendleton.k12.or.us/event/1-hour-late-start-27/
CATEGORIES:District Wide
END:VEVENT
BEGIN:VEVENT
DTSTART;TZID=America/Los_Angeles:20250506T080000
DTEND;TZID=America/Los_Angeles:20250506T090000
DTSTAMP:20260422T071902
CREATED:20240730T022957Z
LAST-MODIFIED:20250506T145832Z
UID:10000939-1746518400-1746522000@wes.pendleton.k12.or.us
SUMMARY:Board Work Session
DESCRIPTION:Meets in the District Office boardroom
URL:https://wes.pendleton.k12.or.us/event/board-work-session-32/
CATEGORIES:District Wide
END:VEVENT
BEGIN:VEVENT
DTSTART;TZID=America/Los_Angeles:20250508T150000
DTEND;TZID=America/Los_Angeles:20250508T163000
DTSTAMP:20260422T071902
CREATED:20250321T135836Z
LAST-MODIFIED:20250508T145849Z
UID:10001014-1746716400-1746721800@wes.pendleton.k12.or.us
SUMMARY:Open House
DESCRIPTION:Join the PELC as they celebrate 10 years! They are also recognizing the Wildhorse Foundation for their generous grant funding of the library.  Presentation at 3:45 pm.
URL:https://wes.pendleton.k12.or.us/event/open-house-4/
CATEGORIES:Early Learning Center
END:VEVENT
BEGIN:VEVENT
DTSTART;VALUE=DATE:20250512
DTEND;VALUE=DATE:20250513
DTSTAMP:20260422T071902
CREATED:20240512T165958Z
LAST-MODIFIED:20250512T145846Z
UID:10000909-1747008000-1747094399@wes.pendleton.k12.or.us
SUMMARY:1 Hour Late Start
DESCRIPTION:
URL:https://wes.pendleton.k12.or.us/event/1-hour-late-start-28/
CATEGORIES:District Wide
END:VEVENT
BEGIN:VEVENT
DTSTART;TZID=America/Los_Angeles:20250512T093000
DTEND;TZID=America/Los_Angeles:20250512T140000
DTSTAMP:20260422T071902
CREATED:20250415T142850Z
LAST-MODIFIED:20250512T145846Z
UID:10001015-1747042200-1747058400@wes.pendleton.k12.or.us
SUMMARY:Spring Concert
DESCRIPTION:The PELC invites you to their Spring Concerts:\n9:30 am – Bees\, Owls\, Dragonflies\n10:25 am – Squirrels\, Foxes\, Racoons\n11:10 am – Coyotes\, Beavers\n1:25 pm – Bears\, Otters
URL:https://wes.pendleton.k12.or.us/event/spring-concert-3/
CATEGORIES:Early Learning Center
END:VEVENT
BEGIN:VEVENT
DTSTART;TZID=America/Los_Angeles:20250512T180000
DTEND;TZID=America/Los_Angeles:20250512T193000
DTSTAMP:20260422T071902
CREATED:20240730T022957Z
LAST-MODIFIED:20250512T145846Z
UID:10000940-1747072800-1747078200@wes.pendleton.k12.or.us
SUMMARY:Regular Board Meeting
DESCRIPTION:
URL:https://wes.pendleton.k12.or.us/event/regular-board-meeting-10/
CATEGORIES:District Wide
END:VEVENT
BEGIN:VEVENT
DTSTART;VALUE=DATE:20250519
DTEND;VALUE=DATE:20250520
DTSTAMP:20260422T071902
CREATED:20240519T172928Z
LAST-MODIFIED:20250519T152834Z
UID:10000910-1747612800-1747699199@wes.pendleton.k12.or.us
SUMMARY:1 Hour Late Start
DESCRIPTION:
URL:https://wes.pendleton.k12.or.us/event/1-hour-late-start-29/
CATEGORIES:District Wide
END:VEVENT
BEGIN:VEVENT
DTSTART;VALUE=DATE:20250526
DTEND;VALUE=DATE:20250527
DTSTAMP:20260422T071902
CREATED:20240526T172835Z
LAST-MODIFIED:20250526T155844Z
UID:10000911-1748217600-1748303999@wes.pendleton.k12.or.us
SUMMARY:No School – Holiday
DESCRIPTION:No school due to Memorial Day observed.
URL:https://wes.pendleton.k12.or.us/event/no-school-holiday-4/
CATEGORIES:District Wide
END:VEVENT
BEGIN:VEVENT
DTSTART;TZID=America/Los_Angeles:20250527T080000
DTEND;TZID=America/Los_Angeles:20250529T170000
DTSTAMP:20260422T071902
CREATED:20240816T032842Z
LAST-MODIFIED:20250527T155859Z
UID:10000976-1748332800-1748538000@wes.pendleton.k12.or.us
SUMMARY:Art Show
DESCRIPTION:Pendleton School District Art Show at the Pendleton Convention Center. Evening only on 5/27/25.
URL:https://wes.pendleton.k12.or.us/event/art-show-2/
CATEGORIES:District Wide
END:VEVENT
BEGIN:VEVENT
DTSTART;TZID=America/Los_Angeles:20250528T180000
DTEND;TZID=America/Los_Angeles:20250528T190000
DTSTAMP:20260422T071902
CREATED:20250425T144342Z
LAST-MODIFIED:20250528T155844Z
UID:10001017-1748455200-1748458800@wes.pendleton.k12.or.us
SUMMARY:HAHS Graduation
DESCRIPTION:Hawthorne Alternative High School Graduation @ Hawthorne
URL:https://wes.pendleton.k12.or.us/event/hahs-graduation/
CATEGORIES:Hawthorne High School
END:VEVENT
BEGIN:VEVENT
DTSTART;TZID=America/Los_Angeles:20250528T190000
DTEND;TZID=America/Los_Angeles:20250528T203000
DTSTAMP:20260422T071902
CREATED:20250425T144342Z
LAST-MODIFIED:20250528T155844Z
UID:10001018-1748458800-1748464200@wes.pendleton.k12.or.us
SUMMARY:Scholarship Night
DESCRIPTION:Scholarship Night is by invitation only in the auditorium.
URL:https://wes.pendleton.k12.or.us/event/scholarship-night-2/
CATEGORIES:Pendleton High School
END:VEVENT
BEGIN:VEVENT
DTSTART;VALUE=DATE:20250529
DTEND;VALUE=DATE:20250530
DTSTAMP:20260422T071902
CREATED:20250425T144342Z
LAST-MODIFIED:20250529T155835Z
UID:10001019-1748476800-1748563199@wes.pendleton.k12.or.us
SUMMARY:Seniors Last Day
DESCRIPTION:Congratulations Class of 2025!
URL:https://wes.pendleton.k12.or.us/event/seniors-last-day-6/
CATEGORIES:Pendleton High School
END:VEVENT
BEGIN:VEVENT
DTSTART;TZID=America/Los_Angeles:20250529T190000
DTEND;TZID=America/Los_Angeles:20250529T200000
DTSTAMP:20260422T071902
CREATED:20250425T144342Z
LAST-MODIFIED:20250529T155835Z
UID:10001020-1748545200-1748548800@wes.pendleton.k12.or.us
SUMMARY:Baccalaureate
DESCRIPTION:Baccalaureate in PHS Auditorium
URL:https://wes.pendleton.k12.or.us/event/baccalaureate-5/
CATEGORIES:Pendleton High School
END:VEVENT
END:VCALENDAR