BEGIN:VCALENDAR
VERSION:2.0
PRODID:-//Washington Elementary School - ECPv6.13.0//NONSGML v1.0//EN
CALSCALE:GREGORIAN
METHOD:PUBLISH
X-WR-CALNAME:Washington Elementary School
X-ORIGINAL-URL:https://wes.pendleton.k12.or.us
X-WR-CALDESC:Events for Washington Elementary School
REFRESH-INTERVAL;VALUE=DURATION:PT1H
X-Robots-Tag:noindex
X-PUBLISHED-TTL:PT1H
BEGIN:VTIMEZONE
TZID:America/Los_Angeles
BEGIN:DAYLIGHT
TZOFFSETFROM:-0800
TZOFFSETTO:-0700
TZNAME:PDT
DTSTART:20220313T100000
END:DAYLIGHT
BEGIN:STANDARD
TZOFFSETFROM:-0700
TZOFFSETTO:-0800
TZNAME:PST
DTSTART:20221106T090000
END:STANDARD
END:VTIMEZONE
BEGIN:VEVENT
DTSTART;VALUE=DATE:20221003
DTEND;VALUE=DATE:20221004
DTSTAMP:20260424T204541
CREATED:20220514T131742Z
LAST-MODIFIED:20221003T155901Z
UID:10000483-1664755200-1664841599@wes.pendleton.k12.or.us
SUMMARY:Late Start
DESCRIPTION:
URL:https://wes.pendleton.k12.or.us/event/late-start-3/
CATEGORIES:District Wide
END:VEVENT
BEGIN:VEVENT
DTSTART;TZID=America/Los_Angeles:20221005T170000
DTEND;TZID=America/Los_Angeles:20221005T200000
DTSTAMP:20260424T204541
CREATED:20220926T165641Z
LAST-MODIFIED:20220926T165819Z
UID:10000628-1664989200-1665000000@wes.pendleton.k12.or.us
SUMMARY:Parent Club Sisters Cafe Night Out!
DESCRIPTION:Dine in or Take Out between 5 – 8 pm on Oct. 5\, 2022 at Sister’s Cafe in Pendleton\, Oregon.  A percentage of the proceeds from all orders will be donated to the Washington Elementary Parent Club.
URL:https://wes.pendleton.k12.or.us/event/parent-club-sisters-cafe-night-out/
CATEGORIES:Washington Elementary School
END:VEVENT
END:VCALENDAR