BEGIN:VCALENDAR
VERSION:2.0
PRODID:-//Washington Elementary School - ECPv6.13.0//NONSGML v1.0//EN
CALSCALE:GREGORIAN
METHOD:PUBLISH
X-WR-CALNAME:Washington Elementary School
X-ORIGINAL-URL:https://wes.pendleton.k12.or.us
X-WR-CALDESC:Events for Washington Elementary School
REFRESH-INTERVAL;VALUE=DURATION:PT1H
X-Robots-Tag:noindex
X-PUBLISHED-TTL:PT1H
BEGIN:VTIMEZONE
TZID:America/Los_Angeles
BEGIN:DAYLIGHT
TZOFFSETFROM:-0800
TZOFFSETTO:-0700
TZNAME:PDT
DTSTART:20250309T100000
END:DAYLIGHT
BEGIN:STANDARD
TZOFFSETFROM:-0700
TZOFFSETTO:-0800
TZNAME:PST
DTSTART:20251102T090000
END:STANDARD
END:VTIMEZONE
BEGIN:VEVENT
DTSTART;VALUE=DATE:20250224
DTEND;VALUE=DATE:20250225
DTSTAMP:20260422T145014
CREATED:20240315T131412Z
LAST-MODIFIED:20250224T111341Z
UID:10000886-1740355200-1740441599@wes.pendleton.k12.or.us
SUMMARY:1 Hour Late Start
DESCRIPTION:
URL:https://wes.pendleton.k12.or.us/event/1-hour-late-start-18/
CATEGORIES:District Wide
END:VEVENT
BEGIN:VEVENT
DTSTART;TZID=America/Los_Angeles:20250226T170000
DTEND;TZID=America/Los_Angeles:20250226T193000
DTSTAMP:20260422T145014
CREATED:20240806T025834Z
LAST-MODIFIED:20250226T112828Z
UID:10000951-1740589200-1740598200@wes.pendleton.k12.or.us
SUMMARY:Forecasting Night
DESCRIPTION:PHS is hosting a family forecasting night for the 2025-26 school year.
URL:https://wes.pendleton.k12.or.us/event/forecasting-night/
CATEGORIES:Pendleton High School
END:VEVENT
END:VCALENDAR